BEGIN:VCALENDAR
PRODID:NingEventWidget-v1
VERSION:2.0
METHOD:PUBLISH
BEGIN:VTIMEZONE
TZID:America/Boise
X-LIC-LOCATION:America/Boise
BEGIN:DAYLIGHT
TZOFFSETFROM:-0700
TZOFFSETTO:-0600
TZNAME:MDT
DTSTART:19700308T020000
RRULE:FREQ=YEARLY;BYMONTH=3;BYDAY=2SU
END:DAYLIGHT
BEGIN:STANDARD
TZOFFSETFROM:-0600
TZOFFSETTO:-0700
TZNAME:MST
DTSTART:19701101T020000
RRULE:FREQ=YEARLY;BYMONTH=11;BYDAY=1SU
END:STANDARD
END:VTIMEZONE
BEGIN:VEVENT
UID:2985220:Event:1512101
DTSTAMP:20260422T021608Z
SUMMARY:XI INTERNATIONAL CONFERENCE: “THE DIGITAL REVEAL”, ARCHITE
 CTURE IN THE POST-DIGITAL AGE
DESCRIPTION:The Digital Reveal, an international seminar exploring the
  uses of computation in architecture, will be held in Bogota, Colombia
  the first week of September 2016. The Architecture Program at The Uni
 versidad Piloto de Colombia, with support from Sigradi (Sociedad Ibero
 americana de Gráfica Digital) and Renata, is inviting architects, des
 igners and academics to submit architectural, urban and related resear
 ch projects where digital technologies and methodologies have been imp
 lemented. A special interest is to discuss processes and situate the s
 tate of affairs in Latin America with practices around the globe. Plea
 se submit your projects (images and text in PDF format) tohttps://www.
 formpl.us/form/5716696744591360/ by the 9th of May 2016. \n\n\n\nSel
 ected projects will be presented at the international conference and p
 ublished in a book.\n\nFor more information visit https://www.grasshop
 per3d.com/events/xi-international-conference-the-digital-reveal-archit
 ecture-in
DTSTART;TZID=America/Boise:20160420T060000
DTEND;TZID=America/Boise:20160509T180000
CATEGORIES:call, for, design, projects, -, revealing, the, processes, 
 behind, digital
LOCATION:Cra. 13b #26-10
WEBSITE:http://www.unipiloto.edu.co/xi-international-conference-the-di
 gital-reveal-eng/
URL:http://www.unipiloto.edu.co/xi-international-conference-the-digita
 l-reveal-eng/
CONTACT:
ORGANIZER:Universidad Piloto de Colombia
ATTACH;FMTTYPE="image/jpeg":http://storage.ning.com/topology/rest/1.0/
 file/get/2829334132?profile=original
ATTENDEE;ROLE=REQ-PARTICIPANT;PARTSTAT=ACCEPTED;RSVP=TRUE;CN=LaIguana:
 https://www.grasshopper3d.com/profile/LaIguana45
END:VEVENT
END:VCALENDAR
