BEGIN:VCALENDAR
PRODID:NingEventWidget-v1
VERSION:2.0
METHOD:PUBLISH
BEGIN:VTIMEZONE
TZID:America/Boise
X-LIC-LOCATION:America/Boise
BEGIN:DAYLIGHT
TZOFFSETFROM:-0700
TZOFFSETTO:-0600
TZNAME:MDT
DTSTART:19700308T020000
RRULE:FREQ=YEARLY;BYMONTH=3;BYDAY=2SU
END:DAYLIGHT
BEGIN:STANDARD
TZOFFSETFROM:-0600
TZOFFSETTO:-0700
TZNAME:MST
DTSTART:19701101T020000
RRULE:FREQ=YEARLY;BYMONTH=11;BYDAY=1SU
END:STANDARD
END:VTIMEZONE
BEGIN:VEVENT
UID:2985220:Event:68832
DTSTAMP:20260421T054116Z
SUMMARY:[WS3] ALGORITHMIC LANDSCAPES - Grasshopper Advanced Design wor
 kshop with ecoLogicStudio
DESCRIPTION:The third event in a new workshop series organized by Simp
 ly Rhino and run by ecoLogicStudio in London.\nThe workshop aim is to 
 deliver a design oriented Grasshopper training for professional archit
 ects, landscape, product and urban designers.\nFor more info follow th
 e link:\nhttp://www.simplyrhino.co.uk/Simply%20Rhino%20and%20EcoLogic%
 20-%20WS3%20Algorithmic%20Landcapes.pdf\nand\nwww.ecologicstudio.com\n
 \nFor more information visit https://www.grasshopper3d.com/events/ws3-
 algorithmic-landscapes
DTSTART;TZID=America/Boise:20100609T000000
DTEND;TZID=America/Boise:20100611T235900
CATEGORIES:workshop, "+", presentation
LOCATION:Simply Rhino UK - London
WEBSITE:
URL:
CONTACT:
ORGANIZER;CN=ecoLogicstudio:https://www.grasshopper3d.com/profile/ecoL
 ogicStudio
ATTACH;FMTTYPE="image/jpeg":http://storage.ning.com/topology/rest/1.0/
 file/get/2804721666?profile=original
ATTENDEE;ROLE=REQ-PARTICIPANT;PARTSTAT=ACCEPTED;RSVP=TRUE;CN="Chris Ha
 nley":https://www.grasshopper3d.com/profile/ChrisHanley
ATTENDEE;ROLE=REQ-PARTICIPANT;PARTSTAT=ACCEPTED;RSVP=TRUE;CN=ecoLogics
 tudio:https://www.grasshopper3d.com/profile/ecoLogicStudio
END:VEVENT
END:VCALENDAR
