BEGIN:VCALENDAR
PRODID:NingEventWidget-v1
VERSION:2.0
METHOD:PUBLISH
BEGIN:VTIMEZONE
TZID:America/Boise
X-LIC-LOCATION:America/Boise
BEGIN:DAYLIGHT
TZOFFSETFROM:-0700
TZOFFSETTO:-0600
TZNAME:MDT
DTSTART:19700308T020000
RRULE:FREQ=YEARLY;BYMONTH=3;BYDAY=2SU
END:DAYLIGHT
BEGIN:STANDARD
TZOFFSETFROM:-0600
TZOFFSETTO:-0700
TZNAME:MST
DTSTART:19701101T020000
RRULE:FREQ=YEARLY;BYMONTH=11;BYDAY=1SU
END:STANDARD
END:VTIMEZONE
BEGIN:VEVENT
UID:2985220:Event:34856
DTSTAMP:20260421T054430Z
SUMMARY:WS1 URBAN PAVILIONS - Grasshopper Advanced Design workshop wit
 h ecoLogicStudio
DESCRIPTION:Can the dichotomy between obsessive tooling and strong des
 ign agenda be overcome? Can innovative software like Grasshopper be th
 e ideal platform to marry computation, creativity and ecologic thinkin
 g? What can be done to accelerate the process? The workshop series wil
 l engage these questions introducing novel parametric modelling techni
 ques in the context of architectural and landscape design; with Grassh
 opper as the main modelling platform participants will develop design 
 proposals ranging from landscape remediation to housing prototypes to 
 responsive envelopes; the events will be a platform for learning desig
 n techniques, testing new methods and debating their potential applica
 tion or evolution. Architects, Landscape architects, Urban designers a
 nd students alike will find in the workshops a unique opportunity to i
 mprove their design skills while confronting themselves with the most 
 debated advanced design subjects. Each event will involve 3-4 days of 
 intensive design workshop with staff from experimental design and cons
 ultancy practice ecoLogicStudio, special support from Grasshopper deve
 loper David Rutten and a final panel-discussion with expert guests fro
 m the field of architecture, landscape and urban design.\nTitles in th
 e series:\n-WS1 workshop1\nUrban Pavilions\n-WS2 workshop2\nResponsive
  Skins\n-WS3 workshop3\nAlgorithmic Landscapes\n-WS4 workshop4\nThe Tr
 ee House Prototype\n\nFor more information visit https://www.grasshopp
 er3d.com/events/ws1-urban-pavilions-1
DTSTART;TZID=America/Boise:20100113T000000
DTEND;TZID=America/Boise:20100115T235900
CATEGORIES:workshop, "+", presentation
LOCATION:Simply Rhino UK - London
WEBSITE:http://blog.rhino3d.com/2009/11/advanced-grasshopper-training-
 in-london.html
URL:http://blog.rhino3d.com/2009/11/advanced-grasshopper-training-in-l
 ondon.html
CONTACT:
ORGANIZER:Simply Rhino UK - ecoLogicStudio
ATTACH;FMTTYPE="image/jpeg":
ATTENDEE;ROLE=REQ-PARTICIPANT;PARTSTAT=ACCEPTED;RSVP=TRUE;CN=ecoLogics
 tudio:https://www.grasshopper3d.com/profile/ecoLogicStudio
END:VEVENT
END:VCALENDAR
