BEGIN:VCALENDAR
PRODID:NingEventWidget-v1
VERSION:2.0
METHOD:PUBLISH
BEGIN:VTIMEZONE
TZID:America/Boise
X-LIC-LOCATION:America/Boise
BEGIN:DAYLIGHT
TZOFFSETFROM:-0700
TZOFFSETTO:-0600
TZNAME:MDT
DTSTART:19700308T020000
RRULE:FREQ=YEARLY;BYMONTH=3;BYDAY=2SU
END:DAYLIGHT
BEGIN:STANDARD
TZOFFSETFROM:-0600
TZOFFSETTO:-0700
TZNAME:MST
DTSTART:19701101T020000
RRULE:FREQ=YEARLY;BYMONTH=11;BYDAY=1SU
END:STANDARD
END:VTIMEZONE
BEGIN:VEVENT
UID:2985220:Event:471592
DTSTAMP:20260423T104230Z
SUMMARY:Workshop Puebla.Morfologías Algorítmicas
DESCRIPTION:Workshop destinado principalmente a Arquitectos y Diseñad
 ores interesados en el aprendizaje del Diseño Computacional aplicado
  en la generación y racionalización de Geometrias Complejas para su 
 implementación en distintos procesos del Diseño.Se abordaran los con
 ceptos basicos y la metodologia para abordar problemas de diseño a tr
 aves del desarrollo de Herramientas Algorítmicas mediante un proceso 
 de programacion visual.\nComo nuestras herramientas de trabajo se util
 izara Rhinoceros+Grasshopper+WeaverBird\n \n\n \nDetalles:\n \n In
 structor: Leonardo Nuevo Arenas[Complex Geometry]\n \nFechas: 22, 23
  y 24 de Noviembre de 2011\n \nLugar:Facultad de Arquitectura, Benem
 erita Universidad Autonoma de Puebla\n \nCupo: Limitado a 20 plazas\
 n \nCosto:\n$1,500.00 [Evento auspiciado por el por el Cuerpo Academ
 ico de Diseño y Tecnología CA-116]\n \nPara hacer tu pago vía depo
 sito o transferencia electrónica:\n \nBanco HSBC\nNo. de Cuenta: 400
 3895570\n \nImportante:\n \nLos participantes deberán traer su prop
 ia Laptop con todo el software y actualizaciones (originales o version
 es de demostración oficiales) previamente instaladas. (Se fijara una 
 fecha unos días antes para revisar que todos los equipos estén en or
 den y listos para trabajar). Si planeas venir de fuera de la ciudad co
 ntáctanos y te pondremos en contacto con otras personas que también 
 vayan a hacerlo para en caso de desearlo puedan compartir su lugar de 
 estancia.\n \nContacto:\nBUAP\nDr.Arq. Víctor Martínez\nca116fabuap
 @gmail.com\n \nComplex Geometry\nLeo [33 3956 9209]\n[nuarle@msn.com]
 \n \n\nFor more information visit https://www.grasshopper3d.com/event
 s/workshop-series-morfolog-as-algor-tmicas
DTSTART;TZID=America/Boise:20111122T090000
DTEND;TZID=America/Boise:20111124T180000
CATEGORIES:workshop, taller, curso
LOCATION:Facultad de Arquitectura, BUAP, Mexico
WEBSITE:http://g.co/maps/3q5ad
URL:http://g.co/maps/3q5ad
CONTACT:33 3956 9209
ORGANIZER:[FABUAP] Cuerpo Academico de Diseño y Tecnología CA-116
ATTACH;FMTTYPE="image/jpeg":http://storage.ning.com/topology/rest/1.0/
 file/get/2827868781?profile=original
ATTENDEE;ROLE=REQ-PARTICIPANT;PARTSTAT=ACCEPTED;RSVP=TRUE;CN="Leonardo
  Nuevo Arenas":https://www.grasshopper3d.com/profile/nuarle
END:VEVENT
END:VCALENDAR
