BEGIN:VCALENDAR
PRODID:NingEventWidget-v1
VERSION:2.0
METHOD:PUBLISH
BEGIN:VTIMEZONE
TZID:America/Boise
X-LIC-LOCATION:America/Boise
BEGIN:DAYLIGHT
TZOFFSETFROM:-0700
TZOFFSETTO:-0600
TZNAME:MDT
DTSTART:19700308T020000
RRULE:FREQ=YEARLY;BYMONTH=3;BYDAY=2SU
END:DAYLIGHT
BEGIN:STANDARD
TZOFFSETFROM:-0600
TZOFFSETTO:-0700
TZNAME:MST
DTSTART:19701101T020000
RRULE:FREQ=YEARLY;BYMONTH=11;BYDAY=1SU
END:STANDARD
END:VTIMEZONE
BEGIN:VEVENT
UID:2985220:Event:410625
DTSTAMP:20260419T225326Z
SUMMARY:Workshop Santiago de  Chile
DESCRIPTION:Workshop destinado principalmente para Arquitectos y DiseÃ
 ±adores interesados en el aprendizaje de diseÃ±o paramÃ©trico y en la 
 creaciÃ³n de algoritmos generativos para su implementaciÃ³n en distint
 os procesos de diseÃ±o, el curso cubrirÃ¡ los conceptos bÃ¡sicos para 
 abordar proyectos de diseÃ±o a travÃ©s del desarrollo de herramientas 
 algorÃ­tmicas mediante un proceso de programaciÃ³n visual, se utilizar
 Ã¡ el software Rhinoceros 3d y el plugin Grasshopper como nuestras her
 ramientas de trabajo.\nÂ \nDetalles:\nÂ \nInstructores:Â Luis de la Pa
 rra / Daniel Camiro\nÂ \nLugar:Â Santiago centro\nAhumada NÂº312 ofici
 na 108 entrepiso, Santiago Centro (a una cuadra de metro plaza de arma
 s).\nÂ \nFechas:Â 27-30 de octubre 2011\nÂ \nDuracion:Â 25 horas\nÂ \n
 Cupo:Â Limitado a 15 plazas\nCostos:Â \nEstudiantes:$80,000\nÂ \nProfe
 sionales:$100,000\nÂ \nFecha limite de pago: Â lunes 24 de octubre 201
 1\nÂ \nImportante:Todos los niveles de experiencia son bienvenidos el 
 Ãºnico requisito es tener un entendimiento bÃ¡sico de los programas CA
 D y una actitud positiva hacia el aprendizaje de dichas herramientas.\
 nSi planeas venir de fuera de la ciudad avÃ­sanos y te pondremos en co
 ntacto con otras personas que tambiÃ©n vayan a hacerlo para en caso de
  desearlo puedan compartir su lugar de estancia.\nÂ \nContacto Santiag
 o:\nLuis de la ParraCel: 714-660-33info@chidostudio.comhttp://www.face
 book.com/pages/Chido-Studio-Collective/233962149953480\nÂ \nNo. Cuenta
  de Ahorro de Banco Estado : 00169946655\nÂ \nPara hacer transferencia
  bancaria favor de enviar mail solicitando los datos necesarios. Favor
  de mandarnos el deposito (scaneado) o el comprobante por mail para qu
 e recibas mÃ¡s Â informaciÃ³n del curso y del tema a info@chidostudio.
 com\n\nTodos los mails se responden en un mÃ¡ximo de 24 horas.\nÂ \nMu
 chas gracias por tuÂ interÃ©sÂ saludos\n\n\nFor more information visit
  https://www.grasshopper3d.com/events/workshop-santiago-de-chile
DTSTART;TZID=America/Boise:20111027T160000
DTEND;TZID=America/Boise:20111030T210000
CATEGORIES:workshop
LOCATION:Santiago Centro
WEBSITE:http://chidostudio.com/?p=516
URL:http://chidostudio.com/?p=516
CONTACT:
ORGANIZER;CN="daniel camiro":https://www.grasshopper3d.com/profile/dan
 ielcamiro
ATTACH;FMTTYPE="image/jpeg":http://storage.ning.com/topology/rest/1.0/
 file/get/2827823376?profile=original
ATTENDEE;ROLE=REQ-PARTICIPANT;PARTSTAT=ACCEPTED;RSVP=TRUE;CN="daniel c
 amiro":https://www.grasshopper3d.com/profile/danielcamiro
END:VEVENT
END:VCALENDAR
