BEGIN:VCALENDAR
PRODID:NingEventWidget-v1
VERSION:2.0
METHOD:PUBLISH
BEGIN:VTIMEZONE
TZID:America/Boise
X-LIC-LOCATION:America/Boise
BEGIN:DAYLIGHT
TZOFFSETFROM:-0700
TZOFFSETTO:-0600
TZNAME:MDT
DTSTART:19700308T020000
RRULE:FREQ=YEARLY;BYMONTH=3;BYDAY=2SU
END:DAYLIGHT
BEGIN:STANDARD
TZOFFSETFROM:-0600
TZOFFSETTO:-0700
TZNAME:MST
DTSTART:19701101T020000
RRULE:FREQ=YEARLY;BYMONTH=11;BYDAY=1SU
END:STANDARD
END:VTIMEZONE
BEGIN:VEVENT
UID:2985220:Event:297626
DTSTAMP:20260420T035259Z
SUMMARY:WORKSHOP QUERETARO / chidostudio - designplaygrouds
DESCRIPTION:Workshop destinado principalmente a Arquitectos y Diseñad
 ores interesados en el aprendizaje del diseño paramétrico y la creac
 ión de algoritmos generativos para su implementación en distintos pr
 ocesos del diseño, el curso cubrirá los conceptos básicos para abor
 dar proyectos de diseño a través del desarrollo de herramientas algo
 rítmicas mediante un proceso de programación visual , utilizaremos e
 l software Rhino 3d y el plugin Grasshopper como nuestras herramientas
  de trabajo.\n\nDetalles:\n\nInstructores: Rodrigo Medina | Daniel Cam
 iro\nLugar: Plataforma de Arquitectura http://plataforma.com.mx/\nSend
 a del Amanecer No. 151 Milenio III, Querétaro, Qro. México\n\nFechas
 : 29,30,31 de julio\n\nCupo: Limitado a 15 plazas\n\nCostos:\nEstudian
 tes:$2,800\nProfesionales:$3,400\nFecha límite de pago: miércoles 27
  de julio 2011\n\nImportante:\nTodos los niveles de experiencia son bi
 envenidos el único requisito es tener un entendimiento básico de los
  programas CAD y una actitud positiva hacia el aprendizaje de dichas h
 erramientas.\n*Los participantes deberán traer su propia laptop con t
 odo el software y actualizaciones (originales o versiones de demostrac
 ión oficiales)previamente instaladas.(se fijara una fecha unos días 
 antes para revisar que todos los equipos estén en orden y listos para
  trabajar).Si planeas venir de fuera de la ciudad avisanos y te pondre
 mos en contacto con otras personas que también vayan a hacerlo para e
 n caso de desearlo puedan compartir su lugar de estancia.\n\nContacto\
 ninfo@chidostudio.com\n\njesus mendez 4421869813 \ncamiro 4422472424\n
 \nFor more information visit https://www.grasshopper3d.com/events/work
 shop-queretaro
DTSTART;TZID=America/Boise:20110729T170000
DTEND;TZID=America/Boise:20110731T210000
CATEGORIES:parametric, workshop
LOCATION:Plataforma de Arquitectura
WEBSITE:http://chidostudio.com/?p=204
URL:http://chidostudio.com/?p=204
CONTACT:4422472424
ORGANIZER;CN="daniel camiro":https://www.grasshopper3d.com/profile/dan
 ielcamiro
ATTACH;FMTTYPE="image/jpeg":http://storage.ning.com/topology/rest/1.0/
 file/get/2827803072?profile=original
ATTENDEE;ROLE=REQ-PARTICIPANT;PARTSTAT=ACCEPTED;RSVP=TRUE;CN="daniel c
 amiro":https://www.grasshopper3d.com/profile/danielcamiro
END:VEVENT
END:VCALENDAR
