BEGIN:VCALENDAR
PRODID:NingEventWidget-v1
VERSION:2.0
METHOD:PUBLISH
BEGIN:VTIMEZONE
TZID:America/Boise
X-LIC-LOCATION:America/Boise
BEGIN:DAYLIGHT
TZOFFSETFROM:-0700
TZOFFSETTO:-0600
TZNAME:MDT
DTSTART:19700308T020000
RRULE:FREQ=YEARLY;BYMONTH=3;BYDAY=2SU
END:DAYLIGHT
BEGIN:STANDARD
TZOFFSETFROM:-0600
TZOFFSETTO:-0700
TZNAME:MST
DTSTART:19701101T020000
RRULE:FREQ=YEARLY;BYMONTH=11;BYDAY=1SU
END:STANDARD
END:VTIMEZONE
BEGIN:VEVENT
UID:2985220:Event:1370060
DTSTAMP:20260423T180624Z
SUMMARY:Workshop in Grasshopper for Room Acoustics design
DESCRIPTION:Parametric design in Grasshopper for Room Acoustics + Conf
 erence in Room Acoustics for the Performing Arts.\nBoth by Juan Óscar
  García (Kahle Acoustics)\n\nFor more information visit https://www.g
 rasshopper3d.com/events/workshop-in-grasshopper-for-room-acoustics-des
 ign
DTSTART;TZID=America/Boise:20151021T000000
DTEND;TZID=America/Boise:20151021T235900
CATEGORIES:workshop
LOCATION:Escuela Politécnica de Cuenca
WEBSITE:http://www.politecnicacuenca.com/2015/09/workshop-modelizacion
 -parametrica-3d.html
URL:http://www.politecnicacuenca.com/2015/09/workshop-modelizacion-par
 ametrica-3d.html
CONTACT:
ORGANIZER:Escuela Universitaria de Cuenca
ATTACH;FMTTYPE="image/jpeg":
ATTENDEE;ROLE=REQ-PARTICIPANT;PARTSTAT=ACCEPTED;RSVP=TRUE;CN=Oscar:htt
 ps://www.grasshopper3d.com/profile/Oscar26520
END:VEVENT
END:VCALENDAR
