BEGIN:VCALENDAR
PRODID:NingEventWidget-v1
VERSION:2.0
METHOD:PUBLISH
BEGIN:VTIMEZONE
TZID:America/Boise
X-LIC-LOCATION:America/Boise
BEGIN:DAYLIGHT
TZOFFSETFROM:-0700
TZOFFSETTO:-0600
TZNAME:MDT
DTSTART:19700308T020000
RRULE:FREQ=YEARLY;BYMONTH=3;BYDAY=2SU
END:DAYLIGHT
BEGIN:STANDARD
TZOFFSETFROM:-0600
TZOFFSETTO:-0700
TZNAME:MST
DTSTART:19701101T020000
RRULE:FREQ=YEARLY;BYMONTH=11;BYDAY=1SU
END:STANDARD
END:VTIMEZONE
BEGIN:VEVENT
UID:2985220:Event:1004698
DTSTAMP:20260422T152853Z
SUMMARY:Workshop de modelado con Rhino aplicado a la arquitectura
DESCRIPTION:El objetivo del taller serÃ¡ crear y modelar con rapidez y
  precisiÃ³n todo tipo de geometrÃ­as con Rhinoceros.Â Este taller prep
 ara al alumno para dominar una aplicacion profesional de modelado en t
 res dimensiones extraordinariamente usada tanto en el diseÃ±o industri
 al como en arquitectura. Durante las sesiones de clase el alumno apren
 de con una metodologÃ­a orientada a la prÃ¡ctica progresiva, comenzand
 o por aprender las herramientas bÃ¡sicas de Rhinoceros, el manejo de l
 as vistas, el historial, la creaciÃ³n de objetos 2D para mÃ¡s adelante
  introducirse en el aprendizaje de operaciones mÃ¡s avanzadas como la 
 creaciÃ³n de sÃ³lidos, el trabajo con curvas y polilÃ­neas, las operac
 iones booleanas, las fusiones, el modelado de precisiÃ³n con Rhinocero
 s 3D, la manipulaciÃ³n de bloques, los recortes, el trabajo con matric
 es, etc.\nÂ \n< entrega deÂ DIPLOMA CERTIFICADO en castellanoÂ yÂ DIPL
 OMA CERTIFICADO en inglÃ©sÂ al finalizar el curso >\nÂ \nPerfil del al
 umno al que va dirigido el curso: Profesionales titulados y estudiante
 s universitarios de las carreras tÃ©cnicas de: . Arquitectura . Arquit
 ectura TÃ©cnica . IngenierÃ­a de EdificaciÃ³n Profesionales que buscan
  reciclar sus conocimientos de 3D y/o iniciarse en modelado basado en 
 NURBS: . Arquitectos . Aparejadores . Delineantes . Ingenieros . DiseÃ
 ±adores GrÃ¡ficos, Digital Artists, CG Artists, etc.\n\nREQUISITOS: No
  se requieren conocimientos previos de CAD ni de modelado 3D (Autocad,
  Sketchup, 3dsmax, etc.). Al comienzo del Workshop se parte de cero en
  Rhinoceros.\n\nDel jueves 27 febrero al martes 25 marzo 2014 Martes y
  Jueves de 16.30 a 20.30h\n\nLugar de celebraciÃ³n: Centro CIENCIAS (V
 irgen de LujÃ¡n - Los Remedios) Calle Virgen de LujÃ¡n nÂº32 - 41011 S
 EVILLE (SPAIN)\n\nInscripciones y mÃ¡s informaciÃ³n:Â http://www.rende
 rsfactory.es/sevilla/cursos-de-infoarquitectura/3d-workshop-de-modelad
 o/\n\nFor more information visit https://www.grasshopper3d.com/events/
 workshop-de-modelado-con-rhino-aplicado-a-la-arquitectura
DTSTART;TZID=America/Boise:20140227T163000
DTEND;TZID=America/Boise:20140325T203000
CATEGORIES:workshop
LOCATION:Seville (SPAIN)
WEBSITE:https://maps.google.es/maps?q=Calle+Virgen+de+Luj%C3%A1n,+32,+
 Sevilla&layer=c&sll=37.374775,-6.001100&cbp=13,344.13,,0,0.2&cbll=37.3
 74639,-6.001053&hl=es&ie=UTF8&hq=&hnear=Calle+Virgen+de+Luj%C3%A1n,+32
 ,+41011+Sevilla,+Andaluc%C3%ADa&ll=37.374267,-6.000456&spn=0.005977,0.
 01133&t=h&z=17&vpsrc=0&panoid=NtShRlaKUpCmjG-NVMdFZg
URL:https://maps.google.es/maps?q=Calle+Virgen+de+Luj%C3%A1n,+32,+Sevi
 lla&layer=c&sll=37.374775,-6.001100&cbp=13,344.13,,0,0.2&cbll=37.37463
 9,-6.001053&hl=es&ie=UTF8&hq=&hnear=Calle+Virgen+de+Luj%C3%A1n,+32,+41
 011+Sevilla,+Andaluc%C3%ADa&ll=37.374267,-6.000456&spn=0.005977,0.0113
 3&t=h&z=17&vpsrc=0&panoid=NtShRlaKUpCmjG-NVMdFZg
CONTACT:+34667505284
ORGANIZER:RENDERSFACTORY creativity training for architecture
ATTACH;FMTTYPE="image/jpeg":http://storage.ning.com/topology/rest/1.0/
 file/get/2828467681?profile=original
ATTENDEE;ROLE=REQ-PARTICIPANT;PARTSTAT=ACCEPTED;RSVP=TRUE;CN=RENDERSFA
 CTORY:https://www.grasshopper3d.com/profile/RENDERSFACTORY
END:VEVENT
END:VCALENDAR
