BEGIN:VCALENDAR
PRODID:NingEventWidget-v1
VERSION:2.0
METHOD:PUBLISH
BEGIN:VTIMEZONE
TZID:America/Boise
X-LIC-LOCATION:America/Boise
BEGIN:DAYLIGHT
TZOFFSETFROM:-0700
TZOFFSETTO:-0600
TZNAME:MDT
DTSTART:19700308T020000
RRULE:FREQ=YEARLY;BYMONTH=3;BYDAY=2SU
END:DAYLIGHT
BEGIN:STANDARD
TZOFFSETFROM:-0600
TZOFFSETTO:-0700
TZNAME:MST
DTSTART:19701101T020000
RRULE:FREQ=YEARLY;BYMONTH=11;BYDAY=1SU
END:STANDARD
END:VTIMEZONE
BEGIN:VEVENT
UID:2985220:Event:1004867
DTSTAMP:20260421T212559Z
SUMMARY:Workshop de Diseño Informacional con Grasshopper aplicado a l
 a arquitectura
DESCRIPTION:El objetivo del taller será crear y modelar con Grasshopp
 er (Generative Modeling) todo tipo de geometrías con diseño paramé
 trico para proyectos de arquitectura. Este taller prepara al alumno p
 ara dominar esta aplicacion profesional extraordinaria usada tanto en 
 el diseño industrial como en arquitectura. Durante las sesiones de cl
 ase el alumno aprende con una metodología orientada a la práctica pr
 ogresiva, el desarrollo del taller permitirá profundizar en la herram
 ienta de diseño paramétrico y modelado computacional Grasshopper, as
 í como en su aplicación práctica en proyectos de arquitectura y fab
 ricación digital.\n \n< entrega de DIPLOMA CERTIFICADO en castellan
 o y DIPLOMA CERTIFICADO en inglés al finalizar el curso >\n Perfil 
 del alumno al que va dirigido el curso: Profesionales titulados y estu
 diantes universitarios de las carreras técnicas de: . Arquitectura . 
 Arquitectura Técnica . Ingeniería de Edificación\n. Ingeniería Ind
 ustrial\n. Ingeniería en Diseño Industrial Profesionales que buscan 
 reciclar sus conocimientos y/o iniciarse en diseño paramétrico: . A
 rquitectos . Aparejadores . Delineantes . Ingenieros . Diseñadores Gr
 áficos, Digital Artists, CG Artists, etc.   REQUISITOS: No se requie
 ren conocimientos previos de Rhino (aunque se recomienda para un mejor
  aprovechamiento). Al comienzo del Workshop se parte de cero en Grassh
 opper.\n\nDel jueves 27 marzo al martes 29 abril 2014 Martes y Jueves 
 de 16.30 a 20.30h\n\nLugar de celebración: Centro CIENCIAS (Virgen de
  Luján - Los Remedios) Calle Virgen de Luján nº32 - 41011 SEVILLE (
 SPAIN)\n\nInscripciones y más información: http://www.rendersfactory
 .es/sevilla/cursos-de-infoarquitectura/3dgm-workshop-parametrico/ \n\
 nFor more information visit https://www.grasshopper3d.com/events/works
 hop-de-dise-o-informacional-con-grasshopper-aplicado-a-la
DTSTART;TZID=America/Boise:20140327T163000
DTEND;TZID=America/Boise:20140423T000000
CATEGORIES:workshop
LOCATION:Seville (SPAIN)
WEBSITE:https://maps.google.es/maps?f=q&source=s_q&hl=es&geocode=&q=Ca
 lle+Virgen+de+Luj%C3%A1n,+32,+Sevilla&aq=0&oq=calle+virgen+de+&sll=40.
 525282,-3.81603&sspn=2.926775,5.800781&vpsrc=0&t=h&ie=UTF8&hq=&hnear=C
 alle+Virgen+de+Luj%C3%A1n,+32,+41011+Sevilla,+Andaluc%C3%ADa&z=16
URL:https://maps.google.es/maps?f=q&source=s_q&hl=es&geocode=&q=Calle+
 Virgen+de+Luj%C3%A1n,+32,+Sevilla&aq=0&oq=calle+virgen+de+&sll=40.5252
 82,-3.81603&sspn=2.926775,5.800781&vpsrc=0&t=h&ie=UTF8&hq=&hnear=Calle
 +Virgen+de+Luj%C3%A1n,+32,+41011+Sevilla,+Andaluc%C3%ADa&z=16
CONTACT:+34667505284
ORGANIZER:RENDERSFACTORY creativity training for architecture
ATTACH;FMTTYPE="image/jpeg":http://storage.ning.com/topology/rest/1.0/
 file/get/2828467681?profile=original
ATTENDEE;ROLE=REQ-PARTICIPANT;PARTSTAT=ACCEPTED;RSVP=TRUE;CN=RENDERSFA
 CTORY:https://www.grasshopper3d.com/profile/RENDERSFACTORY
END:VEVENT
END:VCALENDAR
