BEGIN:VCALENDAR
PRODID:NingEventWidget-v1
VERSION:2.0
METHOD:PUBLISH
BEGIN:VTIMEZONE
TZID:America/Boise
X-LIC-LOCATION:America/Boise
BEGIN:DAYLIGHT
TZOFFSETFROM:-0700
TZOFFSETTO:-0600
TZNAME:MDT
DTSTART:19700308T020000
RRULE:FREQ=YEARLY;BYMONTH=3;BYDAY=2SU
END:DAYLIGHT
BEGIN:STANDARD
TZOFFSETFROM:-0600
TZOFFSETTO:-0700
TZNAME:MST
DTSTART:19701101T020000
RRULE:FREQ=YEARLY;BYMONTH=11;BYDAY=1SU
END:STANDARD
END:VTIMEZONE
BEGIN:VEVENT
UID:2985220:Event:551079
DTSTAMP:20260423T212000Z
SUMMARY:Workshop: City Induction: urban design with patterns and rules
DESCRIPTION:The Research Centre for Architecture, Urbanism and Design 
 (CIAUD), of the Faculty of Architecture at the Technical University of
  Lisbon (FAUTL) is organizing a seminar and a workshop on the theme: \
 "Measuring Urbanity.\"\nThe seminar aims at re-centering the debate of
  measuring urban form on the contemporary issues of designing, plannin
 g and regulating the extensive city. It will bring together a group of
  international experts on the subject and the objective is to discuss 
 the importance of combined qualitative-quantitative approaches on the 
 generation of new insights on the contemporary urban environment and p
 lanning strategies.\nThe workshop presents a set of innovative approac
 hes and methodologies using its own software. At the workshop particip
 ants will be invited to use the available toolset to address a specifi
 c urban issue where the construction of models for automatic measureme
 nt of urban indicators will be part of the urban design process.The wo
 rkshop is intended for all urban planning professionals who want to im
 prove their skills and knowledge as well as for students or doctoral s
 tudents in urban planning. The CIAUD will issue a participation certif
 icate equivalent to 3 ECTS credits.The workshop will run from 7 to 12 
 May 2012 and the seminar will be held on May 11, 2012 in FAUTL.The sem
 inar and workshop program can be found attached ora t the website: htt
 p://www.measurb.org/en/home.html We thank in advance for the dissemina
 tion of this event to whom might be interested.\n \nBest regards\n \
 nJosé Beirão\nCristina Cavaco\nworkshop.pdf\nseminar.pdf\nMeasuring 
 urbanity\n\nFor more information visit https://www.grasshopper3d.com/e
 vents/workshop-city-induction-urban-design-with-patterns-and-rules
DTSTART;TZID=America/Boise:20120507T090000
DTEND;TZID=America/Boise:20120512T190000
CATEGORIES:training, worlshop, on, parametric, urban, design
LOCATION:Faculty of Architecture, Technical University of Lisbon
WEBSITE:http://www.measurb.org/en/home.html
URL:http://www.measurb.org/en/home.html
CONTACT:+351966552967
ORGANIZER:José Nuno Beirão and Cristina Cavaco
ATTACH;FMTTYPE="image/jpeg":http://storage.ning.com/topology/rest/1.0/
 file/get/2827957871?profile=original
ATTENDEE;ROLE=REQ-PARTICIPANT;PARTSTAT=ACCEPTED;RSVP=TRUE;CN="José Nu
 no Beirão":https://www.grasshopper3d.com/profile/JoseNunoBeirao
END:VEVENT
END:VCALENDAR
