BEGIN:VCALENDAR
PRODID:NingEventWidget-v1
VERSION:2.0
METHOD:PUBLISH
BEGIN:VTIMEZONE
TZID:America/Boise
X-LIC-LOCATION:America/Boise
BEGIN:DAYLIGHT
TZOFFSETFROM:-0700
TZOFFSETTO:-0600
TZNAME:MDT
DTSTART:19700308T020000
RRULE:FREQ=YEARLY;BYMONTH=3;BYDAY=2SU
END:DAYLIGHT
BEGIN:STANDARD
TZOFFSETFROM:-0600
TZOFFSETTO:-0700
TZNAME:MST
DTSTART:19701101T020000
RRULE:FREQ=YEARLY;BYMONTH=11;BYDAY=1SU
END:STANDARD
END:VTIMEZONE
BEGIN:VEVENT
UID:2985220:Event:21
DTSTAMP:20260424T075708Z
SUMMARY:Workshop Advanced Architectural Structures
DESCRIPTION:The architectural community has in recent years undergone 
 a radical transformation in terms of the geometric forms being realise
 d. Specifically, buildings with irregularly curved surface forms have 
 begun to proliferate. This has been facilitated by enormous progress i
 n the capability of CNC fabrication and design technologies.\n\nThe WA
 AS - Workshop Advanced Architectural Structures is a post-academic cou
 rse with, amongst others, the following international speakers:\n\nRin
 us Roelofs - Rhinoceros\nThomas Wortmann - NOX architects\nManfred Gro
 hmann – Bollinger + Grohmann Ingenieure\nAxel Kilian - TU Delft/MIT\
 nJohn Chilton - Nottingham Trent\nMarijke Mollaert - VU Brussel\nErik 
 Moncrieff – Kurvenbau\n\nThe workshop is supported by Ferrari, TNO, 
 FreeFormFab, Kurvenbau, Rhinoceros, IASS, TU-Delft and TU-Eindhoven.\n
 \nFor more information and to register, please see www.blob.tue.nl.\n\
 nFor more information visit https://www.grasshopper3d.com/events/works
 hop-advanced
DTSTART;TZID=America/Boise:20090309T000000
DTEND;TZID=America/Boise:20090313T235900
CATEGORIES:workshop
LOCATION:TU Eindhoven
WEBSITE:http://www.blob.tue.nl
URL:http://www.blob.tue.nl
CONTACT:
ORGANIZER:TU Eindhoven
ATTACH;FMTTYPE="image/jpeg":
ATTENDEE;ROLE=REQ-PARTICIPANT;PARTSTAT=ACCEPTED;RSVP=TRUE;CN="Bob McNe
 el":https://www.grasshopper3d.com/profile/BobMcNeel
END:VEVENT
END:VCALENDAR
