BEGIN:VCALENDAR
PRODID:NingEventWidget-v1
VERSION:2.0
METHOD:PUBLISH
BEGIN:VTIMEZONE
TZID:America/Boise
X-LIC-LOCATION:America/Boise
BEGIN:DAYLIGHT
TZOFFSETFROM:-0700
TZOFFSETTO:-0600
TZNAME:MDT
DTSTART:19700308T020000
RRULE:FREQ=YEARLY;BYMONTH=3;BYDAY=2SU
END:DAYLIGHT
BEGIN:STANDARD
TZOFFSETFROM:-0600
TZOFFSETTO:-0700
TZNAME:MST
DTSTART:19701101T020000
RRULE:FREQ=YEARLY;BYMONTH=11;BYDAY=1SU
END:STANDARD
END:VTIMEZONE
BEGIN:VEVENT
UID:2985220:Event:1838931
DTSTAMP:20260423T071716Z
SUMMARY:VERTICAL VARIABLES V2.0
DESCRIPTION:Promo video: https://youtu.be/rLpHyY9pNp4\n\nGrasshopper 
 : Rhino : 3d Printing\n\nJoin us at our next workshop VERTICAL VARIABL
 ES V2.0 in Sofia, Bulgaria Feb 24 - Mar 01  A parametric tower design 
 course teaching Rhino, Grasshopper, Environmental Analysis, Keyshot an
 d 3D printing.  Taught by Radul Shishkov - DesignMorphine Georgi Kunch
 ev - DesignMorphine  Apply Now and view details at: www.designmorphin
 e.com/workshop/future/vertical-variables-v2/  Follow us on Facebook: 
 https://www.facebook.com/designmorphine  and Instagram: https://www.i
 nstagram.com/designmorphine/\n\nFor more information visit https://www
 .grasshopper3d.com/events/vertical-variables-v2-0
DTSTART;TZID=America/Boise:20180224T090000
DTEND;TZID=America/Boise:20180301T200000
CATEGORIES:workshop, grasshopper, parametric, tower, generative, 3dpri
 nting
LOCATION:Union of Architects in Bulgaria, Sofia
WEBSITE:http://www.designmorphine.com/workshop/future/vertical-variabl
 es-v2/
URL:http://www.designmorphine.com/workshop/future/vertical-variables-v
 2/
CONTACT:
ORGANIZER;CN=DesignMorphine:https://www.grasshopper3d.com/profile/Desi
 gnMorphine
ATTACH;FMTTYPE="image/jpeg":http://storage.ning.com/topology/rest/1.0/
 file/get/2709071556?profile=original
ATTENDEE;ROLE=REQ-PARTICIPANT;PARTSTAT=ACCEPTED;RSVP=TRUE;CN=DesignMor
 phine:https://www.grasshopper3d.com/profile/DesignMorphine
END:VEVENT
END:VCALENDAR
