BEGIN:VCALENDAR
PRODID:NingEventWidget-v1
VERSION:2.0
METHOD:PUBLISH
BEGIN:VTIMEZONE
TZID:America/Boise
X-LIC-LOCATION:America/Boise
BEGIN:DAYLIGHT
TZOFFSETFROM:-0700
TZOFFSETTO:-0600
TZNAME:MDT
DTSTART:19700308T020000
RRULE:FREQ=YEARLY;BYMONTH=3;BYDAY=2SU
END:DAYLIGHT
BEGIN:STANDARD
TZOFFSETFROM:-0600
TZOFFSETTO:-0700
TZNAME:MST
DTSTART:19701101T020000
RRULE:FREQ=YEARLY;BYMONTH=11;BYDAY=1SU
END:STANDARD
END:VTIMEZONE
BEGIN:VEVENT
UID:2985220:Event:1909323
DTSTAMP:20260424T010416Z
SUMMARY:Vamos a Fabricar un Mueble
DESCRIPTION:\n\n\n\nEl Sabor del Saber, Fablab ADC y El Laboratorio Ca
 rpinteria Digital tienen el gusto de invitarlos al segundo taller sobr
 e diseño paramétrico, en esta ocasion enfocados en la fabricacion di
 gital con maquinas de fresado cnc.   Diseñar para fabricar digitalme
 nte, implica una serie de cambios en los procesos de diseño; con la f
 abricación digital, se permiten nuevas maneras de esos procesos, y es
 o exige una forma diferente de pensar. Tomando como pretexto el diseñ
 o y la fabricación de un mueble vamos a construir un camino que atrav
 esará el diseño paramétrico y el pensamiento por algoritmos, para l
 legar a la producción del mismo por medio de una máquina de corte CN
 C, partiendo del entendimiento por el material y sus cualidades. Este 
 curso parte del libro Make Design for CNC de : Anne Filson, Gary Rohrb
 acher, Anna Kaziunas France, adicionando a su metodología el diseño 
 asociativo con algoritmos.  Dirigido a: Docentes, Estudiantes, Profesi
 onales de: Diseño Industrial, Ingeniería de Diseño, Arquitectura.  
 Tutores: Arq. Andrés Obregón L. Arq. David E. Vanegas H  Valor: $680
 .000  Cupo: 10 estudiantes  información: elsaberdasabor@gmail.com\n\n
 For more information visit https://www.grasshopper3d.com/events/vamos-
 a-fabricar-un-mueble
DTSTART;TZID=America/Boise:20180605T090000
DTEND;TZID=America/Boise:20180609T130000
CATEGORIES:workshop
LOCATION:el sabor del saber
WEBSITE:https://www.facebook.com/Interior137Arquitectos/
URL:https://www.facebook.com/Interior137Arquitectos/
CONTACT:3006144165
ORGANIZER;CN="David Vanegas":https://www.grasshopper3d.com/profile/DEV
ATTACH;FMTTYPE="image/jpeg":http://storage.ning.com/topology/rest/1.0/
 file/get/2830023710?profile=original
ATTENDEE;ROLE=REQ-PARTICIPANT;PARTSTAT=ACCEPTED;RSVP=TRUE;CN="David Va
 negas":https://www.grasshopper3d.com/profile/DEV
END:VEVENT
END:VCALENDAR
