BEGIN:VCALENDAR
PRODID:NingEventWidget-v1
VERSION:2.0
METHOD:PUBLISH
BEGIN:VTIMEZONE
TZID:America/Boise
X-LIC-LOCATION:America/Boise
BEGIN:DAYLIGHT
TZOFFSETFROM:-0700
TZOFFSETTO:-0600
TZNAME:MDT
DTSTART:19700308T020000
RRULE:FREQ=YEARLY;BYMONTH=3;BYDAY=2SU
END:DAYLIGHT
BEGIN:STANDARD
TZOFFSETFROM:-0600
TZOFFSETTO:-0700
TZNAME:MST
DTSTART:19701101T020000
RRULE:FREQ=YEARLY;BYMONTH=11;BYDAY=1SU
END:STANDARD
END:VTIMEZONE
BEGIN:VEVENT
UID:2985220:Event:1023160
DTSTAMP:20260423T104223Z
SUMMARY:V-Ray for Architects and Industrial Designers
DESCRIPTION:V-Ray for Architects and Industrial Designers Where: Sala
  Ejecutiva 5Price: $95.00 USDCourse Language: SpanishProfessor: Ricard
 o Ortiz, V-Ray Specialist from Chaos Group.In this course you will get
  a first hand and in depth look athow the new features in V-Ray 2.0 wi
 ll revolutionise yourarchitectural and industrial design and visualisa
 tionprocess.Topics range from beginner interior, exterior, andstudio l
 ighting setups to more advanced topics like usingV-Ray Proxies, creati
 ng custom materials, managing V-Raylights, and perfecting the use of i
 mage based lighting.NOTE: You have to bring your own computer with Rhi
 no 5 installed.http://mcneelmiami.com/inc/sdetail/1734//V-Ray para Arq
 uitectos y Diseñadores IndustrialesLugar: Sala Ejecutiva 5Precio: $95
 .00 USDIdioma de curso: EspañolProfesor: Ricardo Ortiz, V-Ray Special
 ist from Chaos Group.En este curso tendrás un profundo vistazo de pri
 mera mano de como las nuevas características en V-Ray 2.0 revoluciona
 rán el proceso arquitectónico, de diseño industrial y de visualizac
 ión.Los tópicos se manejarán desde principiante en interiores, exte
 riores y acomodo de luces de estudio hasta tópicos más avanzados com
 o usando prosees de V-Ray, crear materiales personalizados, manejando 
 luces de V-Ray y perfeccionando el uso de luces basadas en una imagen.
 Topics range from beginner interior, exterior, andstudio lighting setu
 ps to more advanced topics like usingV-Ray Proxies, creating custom ma
 terials, managing V-Raylights, and perfecting the use of image based l
 ighting.NOTA: Tienes que llevar tu computador con Rhino 5 ya instalado
 .Regístrate:http://mcneelmiami.com/inc/sdetail/1734\n\nFor more infor
 mation visit https://www.grasshopper3d.com/events/v-ray-for-architects
 -and-industrial-designers
DTSTART;TZID=America/Boise:20140402T080000
DTEND;TZID=America/Boise:20140402T170000
CATEGORIES:workshop, rhinofabstudio
LOCATION:Tec of Monterrey Campus Guadalajara, Mexico
WEBSITE:http://www.itesm.mx/wps/wcm/connect/Campus/GDA/Guadalajara/
URL:http://www.itesm.mx/wps/wcm/connect/Campus/GDA/Guadalajara/
CONTACT:
ORGANIZER:McNeel Miami
ATTACH;FMTTYPE="image/jpeg":http://storage.ning.com/topology/rest/1.0/
 file/get/2828496548?profile=original
ATTENDEE;ROLE=REQ-PARTICIPANT;PARTSTAT=ACCEPTED;RSVP=TRUE;CN="Andres G
 onzalez":https://www.grasshopper3d.com/profile/AndresGonzalez
ATTENDEE;ROLE=REQ-PARTICIPANT;PARTSTAT=ACCEPTED;RSVP=TRUE;CN="Sachie S
 akai":https://www.grasshopper3d.com/profile/SachieSakai
END:VEVENT
END:VCALENDAR
