BEGIN:VCALENDAR
PRODID:NingEventWidget-v1
VERSION:2.0
METHOD:PUBLISH
BEGIN:VTIMEZONE
TZID:America/Boise
X-LIC-LOCATION:America/Boise
BEGIN:DAYLIGHT
TZOFFSETFROM:-0700
TZOFFSETTO:-0600
TZNAME:MDT
DTSTART:19700308T020000
RRULE:FREQ=YEARLY;BYMONTH=3;BYDAY=2SU
END:DAYLIGHT
BEGIN:STANDARD
TZOFFSETFROM:-0600
TZOFFSETTO:-0700
TZNAME:MST
DTSTART:19701101T020000
RRULE:FREQ=YEARLY;BYMONTH=11;BYDAY=1SU
END:STANDARD
END:VTIMEZONE
BEGIN:VEVENT
UID:2985220:Event:835056
DTSTAMP:20260423T160438Z
SUMMARY:Utzon(x) Architecture Summer School
DESCRIPTION:Call for Participants \nUtzon(x) Summer School: Unfolding
  Utzon\nAalborg University + AKT II (Daniel Bosia) + UNStudio (Christi
 an Veddeler) + 3XN/GXN (Kasper Guldager)\nThe aim of the summer school
  is to explore new approaches to design in the line of Utzon's work, b
 y extending his design principles with the use of computational techni
 ques in a parametric design environment. The summer school is a hands-
 on learning environment, where theoretical knowledge is coupled with p
 hysical and digital design assignments related to the theme. \nWe wil
 l be working in the Utzon Center throughout the summer school and from
  the studies and prototypes developed by participants a 1:1 folded rec
 iprocal canopy will be created and constructed to cover a large part o
 f the Utzon Center courtyard. \nPlease send 2x A4 pages, including le
 tter of interest (5-10 lines), 1-2 reference projects of previous work
  and contact details to Lasse Andersson (land@create.aau.dk) before 1.
  May.\nFor more information please see:\nwww.utzonx.org\nwww.utzoncent
 er.dk/en/welcome.htm\n\nFor more information visit https://www.grassho
 pper3d.com/events/utzon-x-architecture-summer-school
DTSTART;TZID=America/Boise:20130819T000000
DTEND;TZID=America/Boise:20130830T235900
CATEGORIES:summer, school
LOCATION:Aalborg
WEBSITE:http://www.utzonx.org
URL:http://www.utzonx.org
CONTACT:
ORGANIZER:Aalborg University
ATTACH;FMTTYPE="image/jpeg":http://storage.ning.com/topology/rest/1.0/
 file/get/2828268325?profile=original
ATTENDEE;ROLE=REQ-PARTICIPANT;PARTSTAT=ACCEPTED;RSVP=TRUE;CN="Isak Wor
 re Foged":https://www.grasshopper3d.com/profile/IsakWorreFoged472
END:VEVENT
END:VCALENDAR
