BEGIN:VCALENDAR
PRODID:NingEventWidget-v1
VERSION:2.0
METHOD:PUBLISH
BEGIN:VTIMEZONE
TZID:America/Boise
X-LIC-LOCATION:America/Boise
BEGIN:DAYLIGHT
TZOFFSETFROM:-0700
TZOFFSETTO:-0600
TZNAME:MDT
DTSTART:19700308T020000
RRULE:FREQ=YEARLY;BYMONTH=3;BYDAY=2SU
END:DAYLIGHT
BEGIN:STANDARD
TZOFFSETFROM:-0600
TZOFFSETTO:-0700
TZNAME:MST
DTSTART:19701101T020000
RRULE:FREQ=YEARLY;BYMONTH=11;BYDAY=1SU
END:STANDARD
END:VTIMEZONE
BEGIN:VEVENT
UID:2985220:Event:1028742
DTSTAMP:20260423T173909Z
SUMMARY:UK Grasshopper User Meeting
DESCRIPTION:\n\nFor more information visit https://www.grasshopper3d.c
 om/events/uk-grasshopper-user-meeting
DTSTART;TZID=America/Boise:20140408T090000
DTEND;TZID=America/Boise:20140408T210000
CATEGORIES:user, meeting
LOCATION:UCL The Bartlett Schoold of Architecture
WEBSITE:https://www.google.co.uk/maps/place/Bartlett+School+of+Archite
 cture/@51.5224668,-0.1350211,19z/data=!3m1!5s0x48761b2ed68617d9:0xc65d
 8272ce82caf5!4m7!1m4!3m3!1s0x48761b292a551e6d:0x7c97ad41efd1c5cf!2sCap
 per+St!3b1!3m1!1s0x0:0xe43e9f020ef52798
URL:https://www.google.co.uk/maps/place/Bartlett+School+of+Architectur
 e/@51.5224668,-0.1350211,19z/data=!3m1!5s0x48761b2ed68617d9:0xc65d8272
 ce82caf5!4m7!1m4!3m3!1s0x48761b292a551e6d:0x7c97ad41efd1c5cf!2sCapper+
 St!3b1!3m1!1s0x0:0xe43e9f020ef52798
CONTACT:0208 498 9900
ORGANIZER;CN="Paul Cowell":https://www.grasshopper3d.com/profile/PaulC
 owell
ATTACH;FMTTYPE="image/jpeg":http://storage.ning.com/topology/rest/1.0/
 file/get/2828505428?profile=original
ATTENDEE;ROLE=REQ-PARTICIPANT;PARTSTAT=ACCEPTED;RSVP=TRUE;CN="Daniel P
 iker":https://www.grasshopper3d.com/profile/DanielPiker
ATTENDEE;ROLE=REQ-PARTICIPANT;PARTSTAT=ACCEPTED;RSVP=TRUE;CN="John Ega
 n":https://www.grasshopper3d.com/profile/JohnEgan
ATTENDEE;ROLE=REQ-PARTICIPANT;PARTSTAT=ACCEPTED;RSVP=TRUE;CN="Sylvain 
 Usai":https://www.grasshopper3d.com/profile/37l8dp80qo3ik
ATTENDEE;ROLE=REQ-PARTICIPANT;PARTSTAT=ACCEPTED;RSVP=TRUE;CN="Vicente 
 Soler":https://www.grasshopper3d.com/profile/VicenteSoler
ATTENDEE;ROLE=REQ-PARTICIPANT;PARTSTAT=ACCEPTED;RSVP=TRUE;CN="Jose Gar
 cia":https://www.grasshopper3d.com/profile/JoseGarcia
ATTENDEE;ROLE=REQ-PARTICIPANT;PARTSTAT=ACCEPTED;RSVP=TRUE;CN="Paul Bed
 son":https://www.grasshopper3d.com/profile/PaulBedson
ATTENDEE;ROLE=REQ-PARTICIPANT;PARTSTAT=ACCEPTED;RSVP=TRUE;CN="Arthur M
 amou-Mani":https://www.grasshopper3d.com/profile/arthurmamoumani
ATTENDEE;ROLE=REQ-PARTICIPANT;PARTSTAT=ACCEPTED;RSVP=TRUE;CN="Nick Har
 t-Woods":https://www.grasshopper3d.com/profile/NickHartWoods
ATTENDEE;ROLE=REQ-PARTICIPANT;PARTSTAT=ACCEPTED;RSVP=TRUE;CN=jjsolly:h
 ttps://www.grasshopper3d.com/profile/jjsolly
ATTENDEE;ROLE=REQ-PARTICIPANT;PARTSTAT=ACCEPTED;RSVP=TRUE;CN="Danny Bo
 yes":https://www.grasshopper3d.com/profile/DannyBoyes
ATTENDEE;ROLE=REQ-PARTICIPANT;PARTSTAT=ACCEPTED;RSVP=TRUE;CN="Thibault
  Schwartz":https://www.grasshopper3d.com/profile/Thibal
ATTENDEE;ROLE=REQ-PARTICIPANT;PARTSTAT=ACCEPTED;RSVP=TRUE;CN="Paul Cow
 ell":https://www.grasshopper3d.com/profile/PaulCowell
ATTENDEE;ROLE=REQ-PARTICIPANT;PARTSTAT=TENTATIVE;RSVP=TRUE;CN="Mateusz
  Zwierzycki":https://www.grasshopper3d.com/profile/MateuszZwierzycki
END:VEVENT
END:VCALENDAR
