BEGIN:VCALENDAR
PRODID:NingEventWidget-v1
VERSION:2.0
METHOD:PUBLISH
BEGIN:VTIMEZONE
TZID:America/Boise
X-LIC-LOCATION:America/Boise
BEGIN:DAYLIGHT
TZOFFSETFROM:-0700
TZOFFSETTO:-0600
TZNAME:MDT
DTSTART:19700308T020000
RRULE:FREQ=YEARLY;BYMONTH=3;BYDAY=2SU
END:DAYLIGHT
BEGIN:STANDARD
TZOFFSETFROM:-0600
TZOFFSETTO:-0700
TZNAME:MST
DTSTART:19701101T020000
RRULE:FREQ=YEARLY;BYMONTH=11;BYDAY=1SU
END:STANDARD
END:VTIMEZONE
BEGIN:VEVENT
UID:2985220:Event:455025
DTSTAMP:20260421T031051Z
SUMMARY:UIC Master’s Degree Programme in Biodigital Architecture
DESCRIPTION:http://www.biodigitalarchitecture.com\nWhat is Biodigital 
 Architecture?\nThe UIC Master’s Degree Programme in Biodigital Arch
 itecture was created in 2000 as a pioneering postgraduate programme, 
 thefirst that treated the subject of architecture from the biological
  and digital perspectives, and the first to provide systematic studio
 s, workshops and seminars with the founders of digital organicism, t
 he new cutting edge of the 21st century. Within the context of the re
 search line on genetic architectures at the ESARQ School of Architec
 ture, students will pay special attention to new cybernetic-digital a
 nd new ecologic-environmental architectural design as a way of devel
 oping biodigital architecture, emergence, genetic and generative conc
 epts in the biological and digital worlds, biomimesis, biolearning, 
 morphogenesis, etc. Students will also experiment with genetic-driven
  software, evolutionary processes, emerging systems, algorithms, par
 ametrics, scripting, etc. New technologies have given us new product
 ion possibilities (Data-Driven Production, CNC machines, 3D printers
 ) that lead to new formulations of non-standard architecture based o
 n genetic principles (variation, mutation, hybridization): New archit
 ecture fornew possibilities.\n\n\n\n\n \n\nFor more information visit
  https://www.grasshopper3d.com/events/uic-master-s-degree-programme-in
 -biodigital-architecture
DTSTART;TZID=America/Boise:20111101T180000
DTEND;TZID=America/Boise:20111115T190000
CATEGORIES:"master’s", degree, programme
LOCATION:Barcelona
WEBSITE:http://www.biodigitalarchitecture.com
URL:http://www.biodigitalarchitecture.com
CONTACT:+ 34 932 541 827
ORGANIZER:Alberto Estévez | Karl Chu
ATTACH;FMTTYPE="image/jpeg":http://storage.ning.com/topology/rest/1.0/
 file/get/2827852567?profile=original
ATTENDEE;ROLE=REQ-PARTICIPANT;PARTSTAT=ACCEPTED;RSVP=TRUE;CN="Affonso 
 Orciuoli":https://www.grasshopper3d.com/profile/AffonsoOrciuoli
END:VEVENT
END:VCALENDAR
