BEGIN:VCALENDAR
PRODID:NingEventWidget-v1
VERSION:2.0
METHOD:PUBLISH
BEGIN:VTIMEZONE
TZID:America/Boise
X-LIC-LOCATION:America/Boise
BEGIN:DAYLIGHT
TZOFFSETFROM:-0700
TZOFFSETTO:-0600
TZNAME:MDT
DTSTART:19700308T020000
RRULE:FREQ=YEARLY;BYMONTH=3;BYDAY=2SU
END:DAYLIGHT
BEGIN:STANDARD
TZOFFSETFROM:-0600
TZOFFSETTO:-0700
TZNAME:MST
DTSTART:19701101T020000
RRULE:FREQ=YEARLY;BYMONTH=11;BYDAY=1SU
END:STANDARD
END:VTIMEZONE
BEGIN:VEVENT
UID:2985220:Event:56950
DTSTAMP:20260424T202155Z
SUMMARY:Training 01 // Responsive Parametric Surfaces
DESCRIPTION:_audienta: arhitecti, peisagisti, urbanisti, studenti, ing
 ineri\n\n_cand: 23-26 Aprilie 2010\n\n_unde: Universitatea de Arhitect
 ura si Urbanism “Ion Mincu”\n\n_scop\n\nintroducere in specificita
 tile proiectarii parametrice si in logica functionala a softwareului -
  Grasshopper + Rhino\n\ntestarea unor tehnici parametrice pe baza unei
  teme date - suprafete parametrice reactive\n\ntestarea si prototipare
 a la scara redusa a unor metode si tehnici dezvoltate - fabricatie dig
 itala la scara redusa a prototipurilor\n\nexportarea grafica si post p
 rocesare a materialului prezentat ca solutii de proiectare - prezentar
 ea solutiilor si expozitie.\n\nFor more information visit https://www.
 grasshopper3d.com/events/training-01-responsive
DTSTART;TZID=America/Boise:20100423T000000
DTEND;TZID=America/Boise:20100426T235900
CATEGORIES:workshop
LOCATION:\"Ion Mincu\" Faculty of Architecture and Urbansim
WEBSITE:http://dtarchlab.wordpress.com/training-01-suprafete-parametri
 ce-reactive/
URL:http://dtarchlab.wordpress.com/training-01-suprafete-parametrice-r
 eactive/
CONTACT:
ORGANIZER:\"Ion Mincu\" Faculty of Architecture and Urbansim, Dimitrie
  Stefanescu, Ionut Anton
ATTACH;FMTTYPE="image/jpeg":http://storage.ning.com/topology/rest/1.0/
 file/get/2827693689?profile=original
ATTENDEE;ROLE=REQ-PARTICIPANT;PARTSTAT=ACCEPTED;RSVP=TRUE;CN="Andrei R
 aducanu":https://www.grasshopper3d.com/profile/AndreiRaducanu
ATTENDEE;ROLE=REQ-PARTICIPANT;PARTSTAT=ACCEPTED;RSVP=TRUE;CN="Dimitrie
  Stefanescu @idid":https://www.grasshopper3d.com/profile/DimitrieStefa
 nescu
END:VEVENT
END:VCALENDAR
