BEGIN:VCALENDAR
PRODID:NingEventWidget-v1
VERSION:2.0
METHOD:PUBLISH
BEGIN:VTIMEZONE
TZID:America/Boise
X-LIC-LOCATION:America/Boise
BEGIN:DAYLIGHT
TZOFFSETFROM:-0700
TZOFFSETTO:-0600
TZNAME:MDT
DTSTART:19700308T020000
RRULE:FREQ=YEARLY;BYMONTH=3;BYDAY=2SU
END:DAYLIGHT
BEGIN:STANDARD
TZOFFSETFROM:-0600
TZOFFSETTO:-0700
TZNAME:MST
DTSTART:19701101T020000
RRULE:FREQ=YEARLY;BYMONTH=11;BYDAY=1SU
END:STANDARD
END:VTIMEZONE
BEGIN:VEVENT
UID:2985220:Event:625610
DTSTAMP:20260423T161910Z
SUMMARY:Tools12 - Summer workshops at Monzón8. Sevilla, Spain.
DESCRIPTION:We are happy to announce that next week begins the summer 
 workshops series \"Tools'12\" at Monzón8 (Sevilla, Spain), designed t
 o bring from basic to advanced tools to design process in architecture
  and industrial design.\nWe will cover from basic Rhinoceros commute w
 orkshop for CAD users, advanced rendering illumination strategies with
  Vray for Rhino, etc., to advanced grasshopper and other plugins (like
  geco) workshops focused in complex and parametric design.\nWorkshop s
 chedule: 2 days 16h workshop (10-14h & 15-19h)\nLanguage: Spanish(*)
 .\n*We are planning to make two other workshops in English at Vilniu
 s, Lithuania in mid July (from 11th to 28th). If you are interested 
 please contact me.\n\nFor more information visit https://www.grasshop
 per3d.com/events/tools12-summer-workshops-at-monz-n8-sevilla-spain
DTSTART;TZID=America/Boise:20120703T100000
DTEND;TZID=America/Boise:20120814T190000
CATEGORIES:workshops, "series."
LOCATION:Sevilla, Spain.
WEBSITE:http://formacion.monzon8.es/index.php?option=com_content&view=
 category&layout=blog&id=46&Itemid=77
URL:http://formacion.monzon8.es/index.php?option=com_content&view=cate
 gory&layout=blog&id=46&Itemid=77
CONTACT:+34 954 61 27 45
ORGANIZER:Monzón8. Authorized Mcneel Training Center.
ATTACH;FMTTYPE="image/jpeg":http://storage.ning.com/topology/rest/1.0/
 file/get/2804735491?profile=original
ATTENDEE;ROLE=REQ-PARTICIPANT;PARTSTAT=ACCEPTED;RSVP=TRUE;CN="Ángel L
 inares":https://www.grasshopper3d.com/profile/AngelLinares
END:VEVENT
END:VCALENDAR
