BEGIN:VCALENDAR
PRODID:NingEventWidget-v1
VERSION:2.0
METHOD:PUBLISH
BEGIN:VTIMEZONE
TZID:America/Boise
X-LIC-LOCATION:America/Boise
BEGIN:DAYLIGHT
TZOFFSETFROM:-0700
TZOFFSETTO:-0600
TZNAME:MDT
DTSTART:19700308T020000
RRULE:FREQ=YEARLY;BYMONTH=3;BYDAY=2SU
END:DAYLIGHT
BEGIN:STANDARD
TZOFFSETFROM:-0600
TZOFFSETTO:-0700
TZNAME:MST
DTSTART:19701101T020000
RRULE:FREQ=YEARLY;BYMONTH=11;BYDAY=1SU
END:STANDARD
END:VTIMEZONE
BEGIN:VEVENT
UID:2985220:Event:1604338
DTSTAMP:20260419T134408Z
SUMMARY:The Shadows ROOM / workshop by the androgynous New-Territories
DESCRIPTION:Within the context ofÂ DESIGN by DATA Advanced Master by Ă
 ‰cole des Ponts Paris TechÂ opening next week in Paris, we are honoure
 d to announce one of the most prestigious events of our DESIGN by DATA
  OFF program :Â TheÂ Shadows ROOM /Â workshop by theÂ androgynousÂ New
 -TerritoriesÂ (with FranĂ§ois Roche as his-her personal secretary) atÂ
  FRAC Orleans.\n\nDuring the workshop the students will work closely w
 ith the avatar and his collaborators (including F. Roche) and his coll
 aborators to create the installation called â€śThe shadows ROOMâ€ť tha
 t will be exhibited at Frac OrlĂ©ans by November 9th.\nâ€śThe shadows 
 ROOMâ€ťis a structureÂ in which morphology is defined by the process w
 ithout being previously designed.\nWorking with 3 tons of polyester fi
 bers, the working group will design a morphology process using robots 
 and kinects with complex process of scanning position in order to make
  the structure emerge from the raw material.\nThe experience will enga
 ge both artistic and structural skills and students will be encouraged
  to acquire an integrated approach of geometry and shapes, blurring th
 e traditional boundary between design and construction.\nStudents will
  be fully credited (name and surname) for their work.\n\nFor more info
 rmation visit https://www.grasshopper3d.com/events/the-shadows-room-wo
 rkshop-by-the-androgynous-new-territories
DTSTART;TZID=America/Boise:20161020T090000
DTEND;TZID=America/Boise:20161109T230000
CATEGORIES:workshop
LOCATION:Frac OrlĂ©ans
WEBSITE:
URL:
CONTACT:
ORGANIZER;CN="Francesco Cingolani":https://www.grasshopper3d.com/profi
 le/FrancescoCingolani
ATTACH;FMTTYPE="image/jpeg":http://storage.ning.com/topology/rest/1.0/
 file/get/2829501518?profile=original
ATTENDEE;ROLE=REQ-PARTICIPANT;PARTSTAT=ACCEPTED;RSVP=TRUE;CN="Francesc
 o Cingolani":https://www.grasshopper3d.com/profile/FrancescoCingolani
END:VEVENT
END:VCALENDAR
