BEGIN:VCALENDAR
PRODID:NingEventWidget-v1
VERSION:2.0
METHOD:PUBLISH
BEGIN:VTIMEZONE
TZID:America/Boise
X-LIC-LOCATION:America/Boise
BEGIN:DAYLIGHT
TZOFFSETFROM:-0700
TZOFFSETTO:-0600
TZNAME:MDT
DTSTART:19700308T020000
RRULE:FREQ=YEARLY;BYMONTH=3;BYDAY=2SU
END:DAYLIGHT
BEGIN:STANDARD
TZOFFSETFROM:-0600
TZOFFSETTO:-0700
TZNAME:MST
DTSTART:19701101T020000
RRULE:FREQ=YEARLY;BYMONTH=11;BYDAY=1SU
END:STANDARD
END:VTIMEZONE
BEGIN:VEVENT
UID:2985220:Event:1315910
DTSTAMP:20260424T010041Z
SUMMARY:THE FUTURE OF FORM
DESCRIPTION:Parametric design and robotic fabrication will become a ga
 me changer for the entire construction industry in few years. On Frida
 y 26 June 2015 at 6:30 PM at the LSBU | DARLAB Federico Rossi will giv
 e an introduction of the new robotic facilities at the Digital Archite
 cture and Robotics Laboratory, while Lorenzo Vianello will give an int
 roduction on researches and parametric tools that will enable the shif
 t.\n—-DARLab (Digital Architectural Robotics lab) is a research plat
 form in architecture education that advances experimentation and cross
 -discipline collaboration among professors, students and industry part
 ners to expand the boundaries of architectural practice. We are a mixe
 d team of qualified experts from all over the world who work together 
 to obtain the best results out of avant-garde technologies applied to 
 architecture and design. Further information on http://www.dar-lab.ne
 t/South London Society of Architects (SLSA) is is the South London reg
 ional branch of the Royal Institute of British Architects (RIBA). It i
 s a non-for-profit organisation, dedicated to promoting architecture a
 nd inspiring all involved in shaping of our environments. SLSA members
  include over 1,500 professionals and 220 architectural practices. Fur
 ther information visit: http://slsanet.ning.com\n\n\nFor more informa
 tion visit https://www.grasshopper3d.com/events/the-future-of-form
DTSTART;TZID=America/Boise:20150626T183000
DTEND;TZID=America/Boise:20150626T200000
CATEGORIES:conference, and, tour, into, robot, laboratory
LOCATION:DARLAB @ London South Bank University
WEBSITE:http://blog.lsbu.ac.uk/darlab/darlab-lecture-series-201415-the
 -future-of-form/
URL:http://blog.lsbu.ac.uk/darlab/darlab-lecture-series-201415-the-fut
 ure-of-form/
CONTACT:+44 (0) 20 7815 7130
ORGANIZER:DARLAB and SLSA
ATTACH;FMTTYPE="image/jpeg":http://storage.ning.com/topology/rest/1.0/
 file/get/2828984484?profile=original
ATTENDEE;ROLE=REQ-PARTICIPANT;PARTSTAT=ACCEPTED;RSVP=TRUE;CN="Lorenzo 
 Vianello":https://www.grasshopper3d.com/profile/LorenzoVianello
END:VEVENT
END:VCALENDAR
