BEGIN:VCALENDAR
PRODID:NingEventWidget-v1
VERSION:2.0
METHOD:PUBLISH
BEGIN:VTIMEZONE
TZID:America/Boise
X-LIC-LOCATION:America/Boise
BEGIN:DAYLIGHT
TZOFFSETFROM:-0700
TZOFFSETTO:-0600
TZNAME:MDT
DTSTART:19700308T020000
RRULE:FREQ=YEARLY;BYMONTH=3;BYDAY=2SU
END:DAYLIGHT
BEGIN:STANDARD
TZOFFSETFROM:-0600
TZOFFSETTO:-0700
TZNAME:MST
DTSTART:19701101T020000
RRULE:FREQ=YEARLY;BYMONTH=11;BYDAY=1SU
END:STANDARD
END:VTIMEZONE
BEGIN:VEVENT
UID:2985220:Event:549806
DTSTAMP:20260423T212117Z
SUMMARY:TEX-FAB APPLIED Research Through Fabrication Conference and Wo
 rkshops
DESCRIPTION:TEX-FAB 3.0 SAN ANTONIO INTERNATIONAL COMPETITION, LECTURE
 S, WORKSHOPS AND EXHIBITION APRIL, 2012\nMarc Fornes THEVERYMANY\nDavi
 d Fano CASE Design\nGil Akos / Ronnie Parsons Studio Mode\nTravis McCa
 rra Travis McCarra\n\nTEX-FAB San Antonio will present four distinct w
 orkshop sequences that begin with basic skill building and progress wi
 th each session until the attendee gains a broad understanding of the 
 topics presented. It is strongly encouraged that you register for all 
 the sessions in one topic area to gain the broadest understanding of t
 hat topic.\n\n\nFor more information visit https://www.grasshopper3d.c
 om/events/tex-fab-applied-research-through-fabrication-conference-and
DTSTART;TZID=America/Boise:20120413T120000
DTEND;TZID=America/Boise:20120415T160000
CATEGORIES:lectures, workshops
LOCATION:UT San Antonio College of Architecture
WEBSITE:http://tex-fab.net/category/workshops/
URL:http://tex-fab.net/category/workshops/
CONTACT:
ORGANIZER;CN="Andrew Vrana":https://www.grasshopper3d.com/profile/Andr
 ewVrana
ATTACH;FMTTYPE="image/jpeg":http://storage.ning.com/topology/rest/1.0/
 file/get/2827956130?profile=original
ATTENDEE;ROLE=REQ-PARTICIPANT;PARTSTAT=ACCEPTED;RSVP=TRUE;CN="Andrew V
 rana":https://www.grasshopper3d.com/profile/AndrewVrana
END:VEVENT
END:VCALENDAR
