BEGIN:VCALENDAR
PRODID:NingEventWidget-v1
VERSION:2.0
METHOD:PUBLISH
BEGIN:VTIMEZONE
TZID:America/Boise
X-LIC-LOCATION:America/Boise
BEGIN:DAYLIGHT
TZOFFSETFROM:-0700
TZOFFSETTO:-0600
TZNAME:MDT
DTSTART:19700308T020000
RRULE:FREQ=YEARLY;BYMONTH=3;BYDAY=2SU
END:DAYLIGHT
BEGIN:STANDARD
TZOFFSETFROM:-0600
TZOFFSETTO:-0700
TZNAME:MST
DTSTART:19701101T020000
RRULE:FREQ=YEARLY;BYMONTH=11;BYDAY=1SU
END:STANDARD
END:VTIMEZONE
BEGIN:VEVENT
UID:2985220:Event:1211511
DTSTAMP:20260422T192907Z
SUMMARY:TEX-FAB 2015 Houston
DESCRIPTION:The University of Houston Gerald D. Hines College of Archi
 tecture will host the TEX-FAB 2015 event. The theme of Plasticity init
 iated in the recent competition will be expanded upon with a new serie
 s of Workshops, Lectures and an Exhibition featuring the winning proje
 ct Plastic Stereotomy by Justin Diles. A symposium will kickoff with t
 he Keynote Lecture by Ronald Rael, a leading voice in the expanding us
 e of 3D printing in construction using a broad range of materials. Bil
 l Kreysler will lead a series of talks on the topic of Plasticity as t
 he industry partner in composite fabrication and the generous supporte
 r of the Plasticity pavilion to be unveiled at the event.  Andrew Pay
 ne, Mode Lab, HKS Line and Kory Bieg will lead technology Workshops in
  the field of interactivity, robotics, parametric design and digital f
 abrication through the weekend. Go to www.tex-fab.net more information
  and registration.  Registration is required for attendees and the Sy
 mposium is free for students.\n\nFor more information visit https://ww
 w.grasshopper3d.com/events/tex-fab-2015-houston
DTSTART;TZID=America/Boise:20150326T000000
DTEND;TZID=America/Boise:20150329T235900
CATEGORIES:symposium, exhibition, and, workshops
LOCATION:University of Houston
WEBSITE:http://www.tex-fab.net/event/tf6/
URL:http://www.tex-fab.net/event/tf6/
CONTACT:
ORGANIZER:TEX-FAB
ATTACH;FMTTYPE="image/jpeg":http://storage.ning.com/topology/rest/1.0/
 file/get/2828810538?profile=original
ATTENDEE;ROLE=REQ-PARTICIPANT;PARTSTAT=ACCEPTED;RSVP=TRUE;CN="manny fe
 rro":https://www.grasshopper3d.com/profile/mannyferro
ATTENDEE;ROLE=REQ-PARTICIPANT;PARTSTAT=ACCEPTED;RSVP=TRUE;CN="Andrew V
 rana":https://www.grasshopper3d.com/profile/AndrewVrana
END:VEVENT
END:VCALENDAR
