BEGIN:VCALENDAR
PRODID:NingEventWidget-v1
VERSION:2.0
METHOD:PUBLISH
BEGIN:VTIMEZONE
TZID:America/Boise
X-LIC-LOCATION:America/Boise
BEGIN:DAYLIGHT
TZOFFSETFROM:-0700
TZOFFSETTO:-0600
TZNAME:MDT
DTSTART:19700308T020000
RRULE:FREQ=YEARLY;BYMONTH=3;BYDAY=2SU
END:DAYLIGHT
BEGIN:STANDARD
TZOFFSETFROM:-0600
TZOFFSETTO:-0700
TZNAME:MST
DTSTART:19701101T020000
RRULE:FREQ=YEARLY;BYMONTH=11;BYDAY=1SU
END:STANDARD
END:VTIMEZONE
BEGIN:VEVENT
UID:2985220:Event:91552
DTSTAMP:20260424T172026Z
SUMMARY:Técnicas básicas de modelado en Grasshopper
DESCRIPTION:Introducción al uso de Grasshopper como herramienta gener
 ativa de diseño\n\nFor more information visit https://www.grasshopper
 3d.com/events/tecnicas-basicas-de-modelado
DTSTART;TZID=America/Boise:20100903T000000
DTEND;TZID=America/Boise:20100904T235900
CATEGORIES:taller
LOCATION:Universidad Cristobal Colón
WEBSITE:http://www.ver.ucc.mx/
URL:http://www.ver.ucc.mx/
CONTACT:
ORGANIZER;CN="Pablo Kobayashi":https://www.grasshopper3d.com/profile/P
 abloKobayashi
ATTACH;FMTTYPE="image/jpeg":http://storage.ning.com/topology/rest/1.0/
 file/get/2827720865?profile=original
ATTENDEE;ROLE=REQ-PARTICIPANT;PARTSTAT=ACCEPTED;RSVP=TRUE;CN="Pablo Ko
 bayashi":https://www.grasshopper3d.com/profile/PabloKobayashi
END:VEVENT
END:VCALENDAR
