BEGIN:VCALENDAR
PRODID:NingEventWidget-v1
VERSION:2.0
METHOD:PUBLISH
BEGIN:VTIMEZONE
TZID:America/Boise
X-LIC-LOCATION:America/Boise
BEGIN:DAYLIGHT
TZOFFSETFROM:-0700
TZOFFSETTO:-0600
TZNAME:MDT
DTSTART:19700308T020000
RRULE:FREQ=YEARLY;BYMONTH=3;BYDAY=2SU
END:DAYLIGHT
BEGIN:STANDARD
TZOFFSETFROM:-0600
TZOFFSETTO:-0700
TZNAME:MST
DTSTART:19701101T020000
RRULE:FREQ=YEARLY;BYMONTH=11;BYDAY=1SU
END:STANDARD
END:VTIMEZONE
BEGIN:VEVENT
UID:2985220:Event:869
DTSTAMP:20260424T010019Z
SUMMARY:Taller de RhinoScript y Fabricación Digital Donostia/Barcelon
 a
DESCRIPTION:\nLa semana que viene comienza el taller sobre rhinoscript
  y fabricación digital que con tanto ilusión y empeño he estado org
 anizando.\n\nTendremos como encargado de llevar adelante el taller a L
 uis Fraguada\n\nToman parte en ella alumnos y profesores de la escuela
  de arquitectura de Donostia, así como arquitectos guipuzcoanos (sin 
 olvidarnos de Laura, nuestra Cicerone en Barna ; )\n\nServirá para in
 troducirnos en el diseño mediante Rhinoscript y la fabricación media
 nte máquinas CNC.\n\nLeceta.\n\nFor more information visit https://ww
 w.grasshopper3d.com/events/taller-de-rhinoscript-y
DTSTART;TZID=America/Boise:20090521T000000
DTEND;TZID=America/Boise:20090528T235900
CATEGORIES:workshop
LOCATION:Donostia
WEBSITE:
URL:
CONTACT:
ORGANIZER:aitor leceta con la colaboración del Dep.Arquitectura de la
  UPV y COAVN-SS
ATTACH;FMTTYPE="image/jpeg":http://storage.ning.com/topology/rest/1.0/
 file/get/2804720224?profile=original
ATTENDEE;ROLE=REQ-PARTICIPANT;PARTSTAT=ACCEPTED;RSVP=TRUE;CN="Ayman Al
 itany":https://www.grasshopper3d.com/profile/AymanAlitany
ATTENDEE;ROLE=REQ-PARTICIPANT;PARTSTAT=ACCEPTED;RSVP=TRUE;CN="Luis Fra
 guada":https://www.grasshopper3d.com/profile/LuisFraguada
ATTENDEE;ROLE=REQ-PARTICIPANT;PARTSTAT=ACCEPTED;RSVP=TRUE;CN=Leceta:ht
 tps://www.grasshopper3d.com/profile/Leceta
ATTENDEE;ROLE=REQ-PARTICIPANT;PARTSTAT=TENTATIVE;RSVP=TRUE;CN="Dario A
 lonso":https://www.grasshopper3d.com/profile/DarioAlonso
END:VEVENT
END:VCALENDAR
