BEGIN:VCALENDAR
PRODID:NingEventWidget-v1
VERSION:2.0
METHOD:PUBLISH
BEGIN:VTIMEZONE
TZID:America/Boise
X-LIC-LOCATION:America/Boise
BEGIN:DAYLIGHT
TZOFFSETFROM:-0700
TZOFFSETTO:-0600
TZNAME:MDT
DTSTART:19700308T020000
RRULE:FREQ=YEARLY;BYMONTH=3;BYDAY=2SU
END:DAYLIGHT
BEGIN:STANDARD
TZOFFSETFROM:-0600
TZOFFSETTO:-0700
TZNAME:MST
DTSTART:19701101T020000
RRULE:FREQ=YEARLY;BYMONTH=11;BYDAY=1SU
END:STANDARD
END:VTIMEZONE
BEGIN:VEVENT
UID:2985220:Event:596314
DTSTAMP:20260423T230411Z
SUMMARY:Systemic Architecture by ecoLogicStudio - Book Launch
DESCRIPTION:Dear Friend and GH community,Claudia and I would love to i
 nvite you all to join us for the launch of\"Systemic Architecture - Op
 erating Manual for the Self-Organizing City\",our first main book coll
 ecting all ecoLogicStudio's best research projects as well as algorith
 mic design protocols.We will have an \"aperitivo\" and informal discus
 sion at the AA BOOKSHOP, in 32 Bedford Square,next Thursday the 17th o
 f May at 6:30pm.looking forward to see you there,Marcowww.aaschool.ac.
 uk/VIDEO/lecture.php?ID=1855\n\nFor more information visit https://www
 .grasshopper3d.com/events/systemic-architecture-by-ecologicstudio-book
 -launch
DTSTART;TZID=America/Boise:20120517T180000
DTEND;TZID=America/Boise:20120517T200000
CATEGORIES:book, launch
LOCATION:AA BOOKSHOP
WEBSITE:http://www.aabookshop.net/?page_id=2
URL:http://www.aabookshop.net/?page_id=2
CONTACT:
ORGANIZER:AA Bookshop - Routledge
ATTACH;FMTTYPE="image/jpeg":http://storage.ning.com/topology/rest/1.0/
 file/get/2828012252?profile=original
ATTENDEE;ROLE=REQ-PARTICIPANT;PARTSTAT=ACCEPTED;RSVP=TRUE;CN="Marco Po
 letto":https://www.grasshopper3d.com/profile/MarcoPoletto
END:VEVENT
END:VCALENDAR
