BEGIN:VCALENDAR
PRODID:NingEventWidget-v1
VERSION:2.0
METHOD:PUBLISH
BEGIN:VTIMEZONE
TZID:America/Boise
X-LIC-LOCATION:America/Boise
BEGIN:DAYLIGHT
TZOFFSETFROM:-0700
TZOFFSETTO:-0600
TZNAME:MDT
DTSTART:19700308T020000
RRULE:FREQ=YEARLY;BYMONTH=3;BYDAY=2SU
END:DAYLIGHT
BEGIN:STANDARD
TZOFFSETFROM:-0600
TZOFFSETTO:-0700
TZNAME:MST
DTSTART:19701101T020000
RRULE:FREQ=YEARLY;BYMONTH=11;BYDAY=1SU
END:STANDARD
END:VTIMEZONE
BEGIN:VEVENT
UID:2985220:Event:893084
DTSTAMP:20260420T053115Z
SUMMARY:sustainability-open workshops
DESCRIPTION:Hi,I hope you don't mind a bit of shameless advertising fo
 r a workshop coming up soon at a conference many of you probably will 
 be joining.We are developing an open-source framework for designing, a
 nalysing and assessing sustainable performance of buildings and struct
 ures, called sustainability-open. Yes, open-source: that means everyb
 ody can use it as much as they want. We hope that this will give desig
 ners and engineers to make more sustainable buildings and structures i
 n the future. And you can take a look at our code - to learn or improv
 e it if you like! The framework is still in early stage and doesn't d
 o a lot yet at the moment, so this is your chance to become an early-a
 dopter.(By the way, very soon new components will come out that will e
 arly let you do more.)\nThe framework is linked to Grasshopper and Rhi
 no - as soon as we have a little bit more, we will add some links on t
 his site too.\nAt the Design Modelling Symposium Berlin (September 28 
 - October 3)we will host a workshop over the weekend which will show y
 ou everything about the framework and its components, our future plans
 , etc. We will also teach you how to develop your own components. Not
  everything will be purely related to the framework as we will be doin
 g a lot of .net development related to Rhino/Grasshopper and other par
 ametric applications. If you would like to know more about the framew
 ork, take a look at: http://www.sustainability-open.com or follow us
  on Twitter: @sustainableopenIf you would like to sign up for the work
 shop in Berlin or would like to know more, go here:https://www.design-
 modelling-symposium.de/frontend/index.php?folder...Regards,Jeroen\n\nF
 or more information visit https://www.grasshopper3d.com/events/sustain
 ability-open-workshops
DTSTART;TZID=America/Boise:20130927T000000
DTEND;TZID=America/Boise:20130928T235900
CATEGORIES:workshop
LOCATION:Berlin, Germany
WEBSITE:
URL:
CONTACT:
ORGANIZER:Design Modelling Symposium
ATTACH;FMTTYPE="image/jpeg":
ATTENDEE;ROLE=REQ-PARTICIPANT;PARTSTAT=ACCEPTED;RSVP=TRUE;CN="Jeroen C
 oenders":https://www.grasshopper3d.com/profile/JeroenCoenders
ATTENDEE;ROLE=REQ-PARTICIPANT;PARTSTAT=TENTATIVE;RSVP=TRUE;CN="Giulio 
 Piacentino":https://www.grasshopper3d.com/profile/GiulioPiacentino
END:VEVENT
END:VCALENDAR
