BEGIN:VCALENDAR
PRODID:NingEventWidget-v1
VERSION:2.0
METHOD:PUBLISH
BEGIN:VTIMEZONE
TZID:America/Boise
X-LIC-LOCATION:America/Boise
BEGIN:DAYLIGHT
TZOFFSETFROM:-0700
TZOFFSETTO:-0600
TZNAME:MDT
DTSTART:19700308T020000
RRULE:FREQ=YEARLY;BYMONTH=3;BYDAY=2SU
END:DAYLIGHT
BEGIN:STANDARD
TZOFFSETFROM:-0600
TZOFFSETTO:-0700
TZNAME:MST
DTSTART:19701101T020000
RRULE:FREQ=YEARLY;BYMONTH=11;BYDAY=1SU
END:STANDARD
END:VTIMEZONE
BEGIN:VEVENT
UID:2985220:Event:865162
DTSTAMP:20260419T112501Z
SUMMARY:Studio Zaha Hadid Vienna - workshop
DESCRIPTION:!!!REGISTER NOW!!!  @:info@edukube.org   /////////////////
 /////////////////////////////////////////////////////////////// Every 
 significant design begins with an exploration of boundaries. Before we
  begin working on a design, we first have to systematically examine th
 e resources and restrictions which, on the one hand, make every design
  project possible and, on the other hand, also define and delimit it. 
 Knowing what we have to work with enables us to explore its boundaries
  and at the same time to venture beyond those boundaries. This is our 
 studio’s sphere of action; our projects emerge as a critical reflect
 ion of the discipline of architecture, in its essence, on fundamental 
 concepts, their general form, and their underlying media and processes
 .  The goal of our work is to master a variety of forms of the archite
 ctural repertoire of the 20th century, but especially to develop and e
 xpand this repertoire, as has been happening in the past 20 years.  Th
 e goal of this workshop is to introduce a series of these techniques a
 nd expertises and to apply the knowledge transfer on a given site in T
 imisoara.  GUESTS:  STUDIO ZAHA HADID VIENNA: http://www1.uni-ak.ac.at
 /architektur/ https://www.facebook.com/StudioHadidVienna  Ass. Dipl.-I
 ng.MArch. AA Dist. Robert NEUMAYR-BEELITZ - lecturer/critic http://www
 .unsquare.at/  AProf. Mag.arch. Mag.theol. Johannes TRAUPMANN - critic
  http://www.pxt.at/  Univ.-Ass. Dipl.-Ing. Jens Erik MEHLAN - critic h
 ttp://moh-architecture.com/  Univ.Stud.Ass. Daniel BOLOJAN - tutor - G
 rasshopper http://nonstandardstudio.wordpress.com/  Univ.Stud.Ass. Bog
 dan ZAHA - tutor - Maya http://bogdanzaha.tumblr.com/   LOCAL:   Prof.
 Dr.Arh.Urb.Conf. Florin MACHEDON - critic (BUC)\n\nmore information on
  https://encodedfields.wordpress.com/\n\nFor more information visit ht
 tps://www.grasshopper3d.com/events/studio-zaha-hadid-vienna-workshop
DTSTART;TZID=America/Boise:20130715T090000
DTEND;TZID=America/Boise:20130727T220000
CATEGORIES:workshop
LOCATION:Romania
WEBSITE:https://encodedfields.wordpress.com/
URL:https://encodedfields.wordpress.com/
CONTACT:
ORGANIZER:Studio Zaha Hadid Vienna and EduKUBE
ATTACH;FMTTYPE="image/jpeg":http://storage.ning.com/topology/rest/1.0/
 file/get/2828306769?profile=original
ATTENDEE;ROLE=REQ-PARTICIPANT;PARTSTAT=ACCEPTED;RSVP=TRUE;CN="dani bol
 ojan":https://www.grasshopper3d.com/profile/danibolojan
ATTENDEE;ROLE=REQ-PARTICIPANT;PARTSTAT=TENTATIVE;RSVP=TRUE;CN=clct:htt
 ps://www.grasshopper3d.com/profile/clct
END:VEVENT
END:VCALENDAR
