BEGIN:VCALENDAR
PRODID:NingEventWidget-v1
VERSION:2.0
METHOD:PUBLISH
BEGIN:VTIMEZONE
TZID:America/Boise
X-LIC-LOCATION:America/Boise
BEGIN:DAYLIGHT
TZOFFSETFROM:-0700
TZOFFSETTO:-0600
TZNAME:MDT
DTSTART:19700308T020000
RRULE:FREQ=YEARLY;BYMONTH=3;BYDAY=2SU
END:DAYLIGHT
BEGIN:STANDARD
TZOFFSETFROM:-0600
TZOFFSETTO:-0700
TZNAME:MST
DTSTART:19701101T020000
RRULE:FREQ=YEARLY;BYMONTH=11;BYDAY=1SU
END:STANDARD
END:VTIMEZONE
BEGIN:VEVENT
UID:2985220:Event:1023157
DTSTAMP:20260424T172208Z
SUMMARY:Stone setting and its 3D model for Rapid prototype
DESCRIPTION:Stone setting and its 3-D model for Rapid prototypeWhere: 
 Sala Ejecutiva 3Price: $95.00 USDCourse language: EnglishProfessor: Pe
 i - Jung Chen, Professor of Jewelry, SCAD, ART (Authorized Rhino Train
 erThis hands-on demonstration will cover the basic knowledge of stone 
 setting and how to model jewelry for stone setting purpose. Also, we w
 ill discuss the difference between model for RP [Rapid Prototyping] an
 d rendering.During the day, we will learn how to manipulate 3-D model 
 from a building curve for some of these specific Jewelry designs.· Ce
 ltic Ring· Signet Ring· Animal head jewelry design- organic modeling
 · Loop ring· Leaf design jewelryNOTE: You have to bring your own com
 puter with Rhino 5 installed.Register:http://mcneelmiami.com/inc/sdeta
 il/1747//Montaje de piedras y su model 3D para prototipado rapidoLugar
 : Sala Ejecutiva 3Precio: $95.00 USDIdioma de curso: InglésProfesor: 
 Pei - Jung Chen, profesora de joyería en SCAD, ART (Authorized Rhino 
 TrainerDemostración que cubre el conocimiento básico de montaje de p
 iedras y como modelar joyería con el propósito de montar piedras. Se
  discutirá la diferencia entre modelos para prototipo rápido (RT) y 
 para renderizado.Durante el día, aprenderemos como manipular el model
 o 3D desde curvas base para crear algunos de estos diseños de joyerí
 a:· Anillo celta· Anillo sello· Joyería con diseño de cabeza de a
 nimal - modelado orgánico· Anillo lazo· Anillo con diseño de hojaN
 OTA: Tienes que llevar tu computador con Rhino 5 ya instalado.Regístr
 ate:http://mcneelmiami.com/inc/sdetail/1747\n\nFor more information vi
 sit https://www.grasshopper3d.com/events/stone-setting-and-its-3d-mode
 l-for-rapid-prototype
DTSTART;TZID=America/Boise:20140402T080000
DTEND;TZID=America/Boise:20140402T170000
CATEGORIES:workshop, rhinofabstudio
LOCATION:Tec of Monterrey Campus Guadalajara, Mexico
WEBSITE:http://www.itesm.mx/wps/wcm/connect/Campus/GDA/Guadalajara/
URL:http://www.itesm.mx/wps/wcm/connect/Campus/GDA/Guadalajara/
CONTACT:
ORGANIZER:McNeel Miami
ATTACH;FMTTYPE="image/jpeg":http://storage.ning.com/topology/rest/1.0/
 file/get/2828496227?profile=original
ATTENDEE;ROLE=REQ-PARTICIPANT;PARTSTAT=ACCEPTED;RSVP=TRUE;CN="Andres G
 onzalez":https://www.grasshopper3d.com/profile/AndresGonzalez
ATTENDEE;ROLE=REQ-PARTICIPANT;PARTSTAT=ACCEPTED;RSVP=TRUE;CN="Sachie S
 akai":https://www.grasshopper3d.com/profile/SachieSakai
END:VEVENT
END:VCALENDAR
