BEGIN:VCALENDAR
PRODID:NingEventWidget-v1
VERSION:2.0
METHOD:PUBLISH
BEGIN:VTIMEZONE
TZID:America/Boise
X-LIC-LOCATION:America/Boise
BEGIN:DAYLIGHT
TZOFFSETFROM:-0700
TZOFFSETTO:-0600
TZNAME:MDT
DTSTART:19700308T020000
RRULE:FREQ=YEARLY;BYMONTH=3;BYDAY=2SU
END:DAYLIGHT
BEGIN:STANDARD
TZOFFSETFROM:-0600
TZOFFSETTO:-0700
TZNAME:MST
DTSTART:19701101T020000
RRULE:FREQ=YEARLY;BYMONTH=11;BYDAY=1SU
END:STANDARD
END:VTIMEZONE
BEGIN:VEVENT
UID:2985220:Event:1334628
DTSTAMP:20260423T232115Z
SUMMARY:Stampede Workshop: experimenting with multi-disciplinary desig
 n optimisation
DESCRIPTION:WORKSHOP\nWhite Lioness technologiesÂ is hosting a two-day
  interactive workshopÂ on multi-disciplinary design optimisation (MDO)
  during the IASS2015 workshopsÂ in Amsterdam in the weekend of 15-16 A
 ugust 2015.Â You will have the opportunity toÂ play with an experiment
 al large scale distributed framework we have been busy with over the l
 ast few months called 'Stampede'.Â You will get knowledge on MDO and p
 arametric design, meet some ofÂ the developers of the framework, hands
 -on experience and investigate the gained results in an experimental a
 tmosphere. You will be working with Rhino and Grasshopper during the w
 orkshop.\n\n\nPROGRAMME\nThe workshop will start with an introduction 
 on Stampede and the different technologies involved, such as cloud com
 puting, parametric modelling and multi-disciplinary design optimisatio
 n.Â After theÂ presentations, we will discuss anÂ example use case, ge
 t to work with and gain someÂ hands-on experience by applying your new
 ly gained knowledge to design your own multi-disciplinary design optim
 isation model and investigate its behaviour.\n\nREGISTRATION\nExcited?
  The IASS conference organisation lowered the price of the two-day wor
 kshop from â‚¬ 250,- to â‚¬ 150,-. You can register hereÂ via the IASS
 2015 website. The workshop is also available for people who did not re
 gister for the IASS2015 Symposium. There is also a rumour around that 
 if you e-mailÂ White Lioness that you can get a code for a even bigger
  discount.\n\nMORE INFORMATION\nKeep an eye on theÂ Stampede websiteÂ 
 if you want to keep up to date with the latest developments about theÂ
  workshop. Updated information about Stampede and the workshopÂ will b
 e regularly posted.\n\nCONTACT\nPlease contact Dion Jansen for more in
 formation +31 (0) 20 737 1997 or send an email to dionjansen@wlnss.com
 .\n\nFor more information visit https://www.grasshopper3d.com/events/s
 tampede-workshop-experimenting-with-multi-disciplinary-design
DTSTART;TZID=America/Boise:20150815T083000
DTEND;TZID=America/Boise:20150816T170000
CATEGORIES:workshop
LOCATION:Muziekgebouw aan 't IJ, Amsterdam
WEBSITE:https://www.google.nl/maps/place/Muziekgebouw+aan+'t+IJ/@52.37
 83041,4.9131203,17z/data=!4m2!3m1!1s0x47c609afa4643f6f:0x84b02f41a342e
 459?hl=en
URL:https://www.google.nl/maps/place/Muziekgebouw+aan+'t+IJ/@52.378304
 1,4.9131203,17z/data=!4m2!3m1!1s0x47c609afa4643f6f:0x84b02f41a342e459?
 hl=en
CONTACT:0031 (0) 20 737 1997
ORGANIZER;CN="Dion Jansen":https://www.grasshopper3d.com/profile/DJans
 en
ATTACH;FMTTYPE="image/jpeg":http://storage.ning.com/topology/rest/1.0/
 file/get/2829016397?profile=original
ATTENDEE;ROLE=REQ-PARTICIPANT;PARTSTAT=ACCEPTED;RSVP=TRUE;CN="Dion Jan
 sen":https://www.grasshopper3d.com/profile/DJansen
END:VEVENT
END:VCALENDAR
