BEGIN:VCALENDAR
PRODID:NingEventWidget-v1
VERSION:2.0
METHOD:PUBLISH
BEGIN:VTIMEZONE
TZID:America/Boise
X-LIC-LOCATION:America/Boise
BEGIN:DAYLIGHT
TZOFFSETFROM:-0700
TZOFFSETTO:-0600
TZNAME:MDT
DTSTART:19700308T020000
RRULE:FREQ=YEARLY;BYMONTH=3;BYDAY=2SU
END:DAYLIGHT
BEGIN:STANDARD
TZOFFSETFROM:-0600
TZOFFSETTO:-0700
TZNAME:MST
DTSTART:19701101T020000
RRULE:FREQ=YEARLY;BYMONTH=11;BYDAY=1SU
END:STANDARD
END:VTIMEZONE
BEGIN:VEVENT
UID:2985220:Event:523040
DTSTAMP:20260419T225242Z
SUMMARY:SpringChallenge2012
DESCRIPTION:IOA SPRING CHALLENGE is an international design workshop i
 ntended for architecture students interested in exploring integrated d
 igital design and fabrication within the teaching environment of the I
 nstitute of Architecture at the University of Applied Arts.\n \nInteg
 rated Digital Design and Fabrication Architectural Design at the Angew
 andte is taught as an integrated, multidisciplinary process. Following
  this tradition, the design process will be enriched with structural t
 esting of parametric models in Karamba, a structural analysis plugin f
 or Grasshopper developed as a research project at the Department of St
 ructural Design at the Angewandte. The research project was awarded th
 e Austrian “Baupreis 2010/11″. Specialists from Bollinger+Grohmann
  Engineers will co-tutor the workshop. The handling of virtual simulat
 ion methods in the fields of parametric and digital production will be
  a primary focus of the workshop. This week long intense workshop will
  result not only in full scale built structures, but will also inform 
 and prepare interested students for the MArch entrance exam (22nd-24th
  Feb. or 26th-28th Sept. 2012) and the architecture study program at t
 he Angewandte.\n \nFormat & Output The Spring Challenge Program will 
 be organized as a 6 day event. Participation is expected fulltime star
 ting 9am. Introduction to Rhino/Grasshopper/Karamba will be followed b
 y project design development and daily reviews of group projects which
  will enter into a competition mode. Selected projects will be fabrica
 ted and assembled as a group effort. The workshop will close with a fi
 nal presentation with guests. The output will be parametrically design
 ed and digitally produced human scale structures. The used material wi
 ll be corrugated cardboard.\n \nOrganization Time & Location: 13th-18
 th February 2012 in Studio Greg Lynn / Angewandte / Vienna Info: www.s
 pringchallenge2012.wordpress.com www.facebook.com/springchallenge2012 
 Application, Q&A:\n springchallenge2012@uni-ak.ac.at\n Material Fee: e
 arly bird 150 € (until 25th January) 190 € (after 25th January) In
 structors IoA Team: Sen.Sc. Mag.arch. MArch (Harvard) Andrei Gheorghe,
  Univ.Ass. Mag.arch. Bence Pap Bollinger+Grohmann: Clemens Preisinger\
 n\nFor more information visit https://www.grasshopper3d.com/events/spr
 ingchallenge2012
DTSTART;TZID=America/Boise:20120213T000000
DTEND;TZID=America/Boise:20120218T235900
CATEGORIES:workshop
LOCATION:Institute of Architecture / University of Applied Arts
WEBSITE:http://www.springchallenge2012.wordpress.com
URL:http://www.springchallenge2012.wordpress.com
CONTACT:
ORGANIZER:Andrei Gheorghe / Bence Pap
ATTACH;FMTTYPE="image/jpeg":http://storage.ning.com/topology/rest/1.0/
 file/get/2827924179?profile=original
ATTENDEE;ROLE=REQ-PARTICIPANT;PARTSTAT=ACCEPTED;RSVP=TRUE;CN="Andrei G
 heorghe":https://www.grasshopper3d.com/profile/AndreiGheorghe
END:VEVENT
END:VCALENDAR
