BEGIN:VCALENDAR
PRODID:NingEventWidget-v1
VERSION:2.0
METHOD:PUBLISH
BEGIN:VTIMEZONE
TZID:America/Boise
X-LIC-LOCATION:America/Boise
BEGIN:DAYLIGHT
TZOFFSETFROM:-0700
TZOFFSETTO:-0600
TZNAME:MDT
DTSTART:19700308T020000
RRULE:FREQ=YEARLY;BYMONTH=3;BYDAY=2SU
END:DAYLIGHT
BEGIN:STANDARD
TZOFFSETFROM:-0600
TZOFFSETTO:-0700
TZNAME:MST
DTSTART:19701101T020000
RRULE:FREQ=YEARLY;BYMONTH=11;BYDAY=1SU
END:STANDARD
END:VTIMEZONE
BEGIN:VEVENT
UID:2985220:Event:1029136
DTSTAMP:20260423T210340Z
SUMMARY:SPRING SPECIES _grasshopper workshop
DESCRIPTION:The workshop will focus on minimal surface physical simula
 tions and iterative subdivisions,with an in depth look at mesh constru
 ction and accurate topology development. It will follow various approa
 ches of creating complex geometries with increased control and manipul
 ation possibilities which are processed by a computational subsystem a
 rticulated by Rhinoceros 5 + Grasshopper 3D & Sub-Plugins. We will ex
 plore the potential of design based on physical simulations with added
  interactivity and the formal expressivity of tensile membrane structu
 res.   Framework: 1 day Grasshopper for beginners crash course + 4 day
 s Main course Date: 22th April _ 26 April 2014, 9:00-17:00 Place: Facu
 lty of Architecture, Slovak University of Technology, Bratislava, Slov
 akia Tutors: Andrei Padure_Romania, Alex Ahmad_Austria Crash course tu
 tors : Ján Pernecký_Slovakia, Rojiar Soleimani_Iran Organizer: 3D Dr
 eaming, rese arch   PROGRAM  1. 22 th April 2014 Rhinoceros 3D + Grass
 hopper Crash Course (optional) with Ján Pernecký and Rojiar Soleiman
 i The participants will be thaught the essence of NURBS modelling, imp
 ort/export techniques, best drafting practices and basic Grasshopper s
 cripting – workflow, parameters, components, data structures, attrac
 tors, surface subdivision, mathematical and logical operations.  2. 23
  - 26 April 2014 Tooling workshop: Grasshopper with Andrei Padure and 
 Alex Ahmad    TUTORS  Andrei Padure Alex Ahmad Ján Pernecký Rojiar 
 Soleimani   ORGANIZERS  Ján Pernecký Fabio Pavelli Matej Hoppan Roji
 ar Soleimani   APPLICATION AND PAYMENT\nREGISTER HERE   ORGANIZING INS
 TITUTIONS  3D Dreaming rese arch 2b3d Digital Matters Faculty of Archi
 tecture, Slovak University of Technology   MORE INFO AT www.parametric
 bratislava.sk\n\nFor more information visit https://www.grasshopper3d.
 com/events/spring-species-grasshopper-workshop
DTSTART;TZID=America/Boise:20140422T090000
DTEND;TZID=America/Boise:20140426T170000
CATEGORIES:_grasshopper, workshop
LOCATION:Faculty of architecture, SUT, Slovakia
WEBSITE:http://www.parametricbratislava.sk
URL:http://www.parametricbratislava.sk
CONTACT:
ORGANIZER;CN="3D-Dreaming.com":https://www.grasshopper3d.com/profile/3
 DDreamingcom
ATTACH;FMTTYPE="image/jpeg":http://storage.ning.com/topology/rest/1.0/
 file/get/2708929465?profile=original
ATTENDEE;ROLE=REQ-PARTICIPANT;PARTSTAT=ACCEPTED;RSVP=TRUE;CN=Ralf:http
 s://www.grasshopper3d.com/profile/RalfB
ATTENDEE;ROLE=REQ-PARTICIPANT;PARTSTAT=ACCEPTED;RSVP=TRUE;CN="3D-Dream
 ing.com":https://www.grasshopper3d.com/profile/3DDreamingcom
END:VEVENT
END:VCALENDAR
