BEGIN:VCALENDAR
PRODID:NingEventWidget-v1
VERSION:2.0
METHOD:PUBLISH
BEGIN:VTIMEZONE
TZID:America/Boise
X-LIC-LOCATION:America/Boise
BEGIN:DAYLIGHT
TZOFFSETFROM:-0700
TZOFFSETTO:-0600
TZNAME:MDT
DTSTART:19700308T020000
RRULE:FREQ=YEARLY;BYMONTH=3;BYDAY=2SU
END:DAYLIGHT
BEGIN:STANDARD
TZOFFSETFROM:-0600
TZOFFSETTO:-0700
TZNAME:MST
DTSTART:19701101T020000
RRULE:FREQ=YEARLY;BYMONTH=11;BYDAY=1SU
END:STANDARD
END:VTIMEZONE
BEGIN:VEVENT
UID:2985220:Event:1094168
DTSTAMP:20260424T182225Z
SUMMARY:Smart Geometry 2014
DESCRIPTION:The karamba team & the research group at the Institute for
  Structural Design / University of Applied Arts Vienna, in cooperation
  with Bollinger-Grohmann Vienna + Paris and KPNE Denmark, cordially in
 vites to participate in our workshop at the upcoming SmartGeometry con
 ference 'Urban Compaction' from July 14th to 19th 2014 at the Chinese 
 University of Hongkong.\n \nIn four days of intensive workshop we are
  fusing Chinese tradition with digital planning & optimization to ulti
 mately build a superlightweight urban pop-up pavillon made of bamboo, 
 paper, and inflated PVC balloons.\nThe workshops will be followed by a
  two-day conference, featuring invited international keynote speakers 
 showcasing major projects and research from around the globe that mark
  out the territory of the year's Challenge 'Urban Compaction'.\n \n 
 \n www.smartgeometry.org  -  conference page\n \n The Bearable Li
 ghtness of Being  -  workshop outline\n \n \n \nAPPLY FOR THE WOR
 KSHOPS HERE\n\nFor more information visit https://www.grasshopper3d.co
 m/events/smart-geometry-2014
DTSTART;TZID=America/Boise:20140714T100000
DTEND;TZID=America/Boise:20140719T190000
CATEGORIES:workshop
LOCATION:Chinese University of Hong Kong
WEBSITE:http://www.smartgeometry.com
URL:http://www.smartgeometry.com
CONTACT:
ORGANIZER;CN=Karamba3D:https://www.grasshopper3d.com/profile/karamba
ATTACH;FMTTYPE="image/jpeg":http://storage.ning.com/topology/rest/1.0/
 file/get/2828596799?profile=original
ATTENDEE;ROLE=REQ-PARTICIPANT;PARTSTAT=ACCEPTED;RSVP=TRUE;CN=Karamba3D
 :https://www.grasshopper3d.com/profile/karamba
ATTENDEE;ROLE=REQ-PARTICIPANT;PARTSTAT=TENTATIVE;RSVP=TRUE;CN="Diego C
 uevas":https://www.grasshopper3d.com/profile/DiegoCuevas
END:VEVENT
END:VCALENDAR
