BEGIN:VCALENDAR
PRODID:NingEventWidget-v1
VERSION:2.0
METHOD:PUBLISH
BEGIN:VTIMEZONE
TZID:America/Boise
X-LIC-LOCATION:America/Boise
BEGIN:DAYLIGHT
TZOFFSETFROM:-0700
TZOFFSETTO:-0600
TZNAME:MDT
DTSTART:19700308T020000
RRULE:FREQ=YEARLY;BYMONTH=3;BYDAY=2SU
END:DAYLIGHT
BEGIN:STANDARD
TZOFFSETFROM:-0600
TZOFFSETTO:-0700
TZNAME:MST
DTSTART:19701101T020000
RRULE:FREQ=YEARLY;BYMONTH=11;BYDAY=1SU
END:STANDARD
END:VTIMEZONE
BEGIN:VEVENT
UID:2985220:Event:1844920
DTSTAMP:20260423T103555Z
SUMMARY:Single- and Multi-objective Optimization in Design
DESCRIPTION:Parametric Support invites architects, engineers and desig
 ners to particiapte in training on optimization techniques.Two day tra
 ining covers topics of single and multi-objective optimization using g
 eneric (based on swarm intelligence and evolutionary algorithms) and d
 edicated methods.ScheduleDay 19-13 Introduction to optimization method
 s and application13-14 Lunch break14-17 Single objective optimizationD
 ay 29-13 Booleans and hard constrains. Introduction to multiobjective 
 methods13-14 Lunch break14-17 Deciated methods of optimizationRequirem
 ents for participantsLevelBasic Grasshopper level is necessary. Famili
 arity with the Data Trees and data matching logic.SoftwareRhino + Gras
 shopper VenueParametric Support, Hardenbergstrasse 38, BerlinFee[Earl
 y Bird] 300 eur + VAT / unitl 26.10.2017[Regular] 380 eur + VATmore in
 fo at:hello@parametric.support\n\nFor more information visit https://w
 ww.grasshopper3d.com/events/single-and-multi-objective-optimization-in
 -design
DTSTART;TZID=America/Boise:20171201T100000
DTEND;TZID=America/Boise:20171202T180000
CATEGORIES:masterclass
LOCATION:Berlin
WEBSITE:https://www.facebook.com/events/503632149971138/?acontext=%7B%
 22action_history%22%3A%22[%7B%5C%22surface%5C%22%3A%5C%22page%5C%22%2C
 %5C%22mechanism%5C%22%3A%5C%22page_upcoming_events_card%5C%22%2C%5C%22
 extra_data%5C%22%3A[]%7D]%22%2C%22has_source%22%3Atrue%7D
URL:https://www.facebook.com/events/503632149971138/?acontext=%7B%22ac
 tion_history%22%3A%22[%7B%5C%22surface%5C%22%3A%5C%22page%5C%22%2C%5C%
 22mechanism%5C%22%3A%5C%22page_upcoming_events_card%5C%22%2C%5C%22extr
 a_data%5C%22%3A[]%7D]%22%2C%22has_source%22%3Atrue%7D
CONTACT:
ORGANIZER:Parametric Support
ATTACH;FMTTYPE="image/jpeg":http://storage.ning.com/topology/rest/1.0/
 file/get/2829914787?profile=original
ATTENDEE;ROLE=REQ-PARTICIPANT;PARTSTAT=ACCEPTED;RSVP=TRUE;CN="Judyta C
 ichocka":https://www.grasshopper3d.com/profile/JudytaCichocka
END:VEVENT
END:VCALENDAR
