BEGIN:VCALENDAR
PRODID:NingEventWidget-v1
VERSION:2.0
METHOD:PUBLISH
BEGIN:VTIMEZONE
TZID:America/Boise
X-LIC-LOCATION:America/Boise
BEGIN:DAYLIGHT
TZOFFSETFROM:-0700
TZOFFSETTO:-0600
TZNAME:MDT
DTSTART:19700308T020000
RRULE:FREQ=YEARLY;BYMONTH=3;BYDAY=2SU
END:DAYLIGHT
BEGIN:STANDARD
TZOFFSETFROM:-0600
TZOFFSETTO:-0700
TZNAME:MST
DTSTART:19701101T020000
RRULE:FREQ=YEARLY;BYMONTH=11;BYDAY=1SU
END:STANDARD
END:VTIMEZONE
BEGIN:VEVENT
UID:2985220:Event:243925
DTSTAMP:20260421T035848Z
SUMMARY:Sens[e-Res]ponsive Architecture Workshop
DESCRIPTION:The Sens[e-Res]ponsive Architecture Workshop will take pla
 ce during 22-29.08.2011 at the Department of Architecture at the Techn
 ical University of Crete in Chania, Greece.  The overall discourse of 
 the workshop revolves around the contextual and material frameworks of
  mediums, tools and techniques to create sensponsive environments that
  extend from useful to collaborative, developing a \"sense\" of their 
 own. This year’s theme involves the design of an intriguing space fo
 r children with responsive partitions, utilizing rhino3D grasshopper w
 ith firefly and arduino. A detailed description of the theme can be fo
 und here.  The workshop will be taught by an interdisciplinary team of
  designers and theorists from Harvard, MIT, TU Delft, University of Ea
 st London (UEL), Aristotle University of Thessaloniki (AUTh) and the T
 echnical University of Crete (TUC). More information can be found here
 .  The Sens[e-Res]ponsive Architecture Workshop is now open to applica
 tions. Anyone interested in participating can fill-in an application f
 orm and submit the necessary material here.\n\nFor more information vi
 sit https://www.grasshopper3d.com/events/senseresponsive-architecture
DTSTART;TZID=America/Boise:20110821T000000
DTEND;TZID=America/Boise:20110829T235900
CATEGORIES:workshop
LOCATION:Chania, Greece
WEBSITE:http://senseresponsive.blogspot.com/
URL:http://senseresponsive.blogspot.com/
CONTACT:
ORGANIZER:
ATTACH;FMTTYPE="image/jpeg":http://storage.ning.com/topology/rest/1.0/
 file/get/2827793187?profile=original
ATTENDEE;ROLE=REQ-PARTICIPANT;PARTSTAT=ACCEPTED;RSVP=TRUE;CN="Iraklis 
 Kourounis":https://www.grasshopper3d.com/profile/IraklisKourounis
ATTENDEE;ROLE=REQ-PARTICIPANT;PARTSTAT=ACCEPTED;RSVP=TRUE;CN="Ioanna S
 ymeonidou":https://www.grasshopper3d.com/profile/IoannaSymeonidou
ATTENDEE;ROLE=REQ-PARTICIPANT;PARTSTAT=ACCEPTED;RSVP=TRUE;CN="Dimitris
  Gourdoukis":https://www.grasshopper3d.com/profile/DimitrisGourdoukis
ATTENDEE;ROLE=REQ-PARTICIPANT;PARTSTAT=TENTATIVE;RSVP=TRUE;CN="Roman B
 ablowsky":https://www.grasshopper3d.com/profile/RomanBablowsky
END:VEVENT
END:VCALENDAR
