BEGIN:VCALENDAR
PRODID:NingEventWidget-v1
VERSION:2.0
METHOD:PUBLISH
BEGIN:VTIMEZONE
TZID:America/Boise
X-LIC-LOCATION:America/Boise
BEGIN:DAYLIGHT
TZOFFSETFROM:-0700
TZOFFSETTO:-0600
TZNAME:MDT
DTSTART:19700308T020000
RRULE:FREQ=YEARLY;BYMONTH=3;BYDAY=2SU
END:DAYLIGHT
BEGIN:STANDARD
TZOFFSETFROM:-0600
TZOFFSETTO:-0700
TZNAME:MST
DTSTART:19701101T020000
RRULE:FREQ=YEARLY;BYMONTH=11;BYDAY=1SU
END:STANDARD
END:VTIMEZONE
BEGIN:VEVENT
UID:2985220:Event:1204893
DTSTAMP:20260422T212633Z
SUMMARY:Seminario de DiseÃ±o BioclimÃ¡tico y Eficiencia EnergÃ©tica en
  Grasshopper con Ladybug y HoneyBee
DESCRIPTION:\nSeminario de DiseÃ±o BioclimÃ¡tico y Eficiencia EnergÃ©t
 ica con Grasshopper\nÂ En este seminario el Arquitecto prospecto a Mae
 stro Arquitecto y Maestro Arquitecto Programador del MIT Chris Mackey,
 Â nos viene a compartir la herramienta que programÃ³ como parte de su 
 tesis para realizar anÃ¡lisis bioclimÃ¡ticos y ambientales, asÃ­ como 
 anÃ¡lisis de eficiencia energÃ©tica en edificaciones.\nSe invita a los
  participantes a traer un proyecto para ser analizado durante el semin
 ario, para concluir con un anÃ¡lisis y simulaciones de un proyecto rea
 l.\nTemas:\nâ€¢ Datos climÃ¡ticos y decisiones de DiseÃ±o â€¢ Introduc
 ciÃ³n al DiseÃ±o BioclimÃ¡tico â€¢ AnÃ¡lisis de IluminaciÃ³n Natural â
 €¢ Modelado para optimizaciÃ³n energÃ©tica â€¢ Simulaciones tÃ©rmicas 
 â€¢ VisualizaciÃ³n de Datos â€¢ AnÃ¡lisis de proyecto propio.\nEl semi
 nario se impartirÃ¡ en inglÃ©s con traducciÃ³n al espaÃ±ol.\nSe recomi
 enda tener conocimientos de Grasshopper. Se impartirÃ¡ un curso proped
 Ã©utico de fundamentos anterior al seminario sin costo para los que no
  sepan Grasshopper.\n\nPara revisar el itinerario y el costo del Semin
 ario revisaÂ AquÃ­.\nPara mÃ¡s info de Ladybug y Honeybee revisaÂ aqui
 .\n\nEs necesario traer Laptop propia con Rhino, Grass, y Ladybug + Ho
 neybee instalados.\nCupo limitado.\nInteresados favor de registrarseÂ 
 aquÃ­.\nInteresados en comprar la licencia de Rhino Original revisar a
 quÃ­.Â \n\nFor more information visit https://www.grasshopper3d.com/ev
 ents/seminario-de-dise-o-bioclim-tico-y-eficiencia-energ-tica-en
DTSTART;TZID=America/Boise:20150326T090000
DTEND;TZID=America/Boise:20150328T180000
CATEGORIES:seminario, intensivo
LOCATION:MÃ©xico D.F
WEBSITE:http://www.dimensionn.mx
URL:http://www.dimensionn.mx
CONTACT:52 1 55 50160634
ORGANIZER;CN="Javier M Gaxiola":https://www.grasshopper3d.com/profile/
 JavierMGaxiola
ATTACH;FMTTYPE="image/jpeg":http://storage.ning.com/topology/rest/1.0/
 file/get/2828799229?profile=original
ATTENDEE;ROLE=REQ-PARTICIPANT;PARTSTAT=ACCEPTED;RSVP=TRUE;CN="Javier M
  Gaxiola":https://www.grasshopper3d.com/profile/JavierMGaxiola
END:VEVENT
END:VCALENDAR
