BEGIN:VCALENDAR
PRODID:NingEventWidget-v1
VERSION:2.0
METHOD:PUBLISH
BEGIN:VTIMEZONE
TZID:America/Boise
X-LIC-LOCATION:America/Boise
BEGIN:DAYLIGHT
TZOFFSETFROM:-0700
TZOFFSETTO:-0600
TZNAME:MDT
DTSTART:19700308T020000
RRULE:FREQ=YEARLY;BYMONTH=3;BYDAY=2SU
END:DAYLIGHT
BEGIN:STANDARD
TZOFFSETFROM:-0600
TZOFFSETTO:-0700
TZNAME:MST
DTSTART:19701101T020000
RRULE:FREQ=YEARLY;BYMONTH=11;BYDAY=1SU
END:STANDARD
END:VTIMEZONE
BEGIN:VEVENT
UID:2985220:Event:1910677
DTSTAMP:20260424T013137Z
SUMMARY:SELF MADE ARCHITECTURE 03 | Fully Funded Summer School @FabLab
  Poliba
DESCRIPTION:Deadline: 31st May 2018 at 12:00 (noon).\n\nDigital Fabri
 cation along with Computational Design is becoming a core disciplin
 e for architecture, definitely something more than just a trend. Its m
 ain goal is to reduce the gaps between built environment and digital t
 echnologies seamless integrating design and fabrication. Among the ben
 efits: efficient use of production resources, material-specific design
  concepts, outcome optimization and durability.\n\nJointly organized b
 y FabLab Poliba and Polytechnic University of Bari, Self Made Architec
 ture 03 aims to help students to develop new skills and tools on 3D M
 odeling,  Advanced Parametric Modeling,  Structural and Daylightin
 g Optimization and Digital Fabrication.\n\nThe tools we’ll use:\n#
 Rhinoceros3D  #Grasshopper3D  #Kangaroo  #Ladybug  #Honeybee  #Cu
 ra #BigRepOne\n\nThe students will be involved in morning lectures a
 nd hands-on workshops during the afternoon with a Do-It-Yourself a
 nd Do-It-Together approach. They will be asked to work on group proj
 ects and take part of the final phase of a temporary architecture ins
 tallation.\n\nMore info:\nDays: 2nd July 2018 to 7th July 2018 Locatio
 n: Italy > Puglia > Bitonto Language: English Students: 27 Internation
 al students Credits: 2 ECTS Benefits: Fully Fundend Summer School. Fre
 e Application for the Summer School, Free Accommodation with B&B and m
 eals included, Free Enrollment to FabLab Poliba Elegibility criteria: 
 students and graduates of architecture, design and engineering.\n\nApp
 ly: www.poliba.it/didattica/sma03 Deadline: 31st May 2018 at 12:00 (
 noon)  Contacts: info@fablabpoliba.org Scientific Coordinator: Prof.
  Nicola Parisi\n\nFor more information visit https://www.grasshopper3d
 .com/events/self-made-architecture-fablab-poliba-gt-fully-funded-summe
 r
DTSTART;TZID=America/Boise:20180702T000000
DTEND;TZID=America/Boise:20180707T235900
CATEGORIES:summerschool, workshop
LOCATION:FabLab Poliba
WEBSITE:http://www.fablabpoliba.org/
URL:http://www.fablabpoliba.org/
CONTACT:
ORGANIZER;CN="FabLab Poliba":https://www.grasshopper3d.com/profile/Fab
 LabPoliba
ATTACH;FMTTYPE="image/jpeg":http://storage.ning.com/topology/rest/1.0/
 file/get/2830030121?profile=original
ATTENDEE;ROLE=REQ-PARTICIPANT;PARTSTAT=ACCEPTED;RSVP=TRUE;CN="FabLab P
 oliba":https://www.grasshopper3d.com/profile/FabLabPoliba
END:VEVENT
END:VCALENDAR
