BEGIN:VCALENDAR
PRODID:NingEventWidget-v1
VERSION:2.0
METHOD:PUBLISH
BEGIN:VTIMEZONE
TZID:America/Boise
X-LIC-LOCATION:America/Boise
BEGIN:DAYLIGHT
TZOFFSETFROM:-0700
TZOFFSETTO:-0600
TZNAME:MDT
DTSTART:19700308T020000
RRULE:FREQ=YEARLY;BYMONTH=3;BYDAY=2SU
END:DAYLIGHT
BEGIN:STANDARD
TZOFFSETFROM:-0600
TZOFFSETTO:-0700
TZNAME:MST
DTSTART:19701101T020000
RRULE:FREQ=YEARLY;BYMONTH=11;BYDAY=1SU
END:STANDARD
END:VTIMEZONE
BEGIN:VEVENT
UID:2985220:Event:1459781
DTSTAMP:20260424T064517Z
SUMMARY:Rome Algorithmic Summer School
DESCRIPTION:Rome Summer School 2016\nwill be in Faculty of Architectur
 e at Sapienza University of Rome from 11th to 2th of July 2016.\ndetai
 ls, schedule, and registrations on the this linkhttp://ealgoritm.com/S
 ummer-School/\nRegistration deadline is 4th of March 2016\nOfficial l
 anguage: English with Italian and Arabic supportsTotal training hours
 :   120 hoursPlace: Sapienza University of Rome - Faculty of Archit
 ecture Final exhibition: Sapienza University of Rome - Rome - Italy
 4 professors and 8 tutors from University of Pennsylvania- USA, AA - 
 London,politecnico di Milano- Italy, SAS-UNICAM-Italy, BAU - Lebanon ,
  MSA, AAST and Cairo University - Egypt\nfinal outcomes: scale 1 to 1
  responsive façade; kinetic and optimized regarding to environment an
 d users interaction. An official research will take in advance of how 
 people interact with the kinetic Architectural object through the fina
 l exhibition survey . \n\nto register \n\nFor more information visit
  https://www.grasshopper3d.com/events/rome-algorithmic-summer-school
DTSTART;TZID=America/Boise:20160711T090000
DTEND;TZID=America/Boise:20160729T170000
CATEGORIES:summer, school, workshop, parametric, algorithmic, design
LOCATION:Sapienza University of Rome - Faculty of Architecture
WEBSITE:http://ealgoritm.com/Summer-School/
URL:http://ealgoritm.com/Summer-School/
CONTACT:+36171125769
ORGANIZER;CN="Mostafa R. A. Khalifa":https://www.grasshopper3d.com/pro
 file/MostafaKhalifa
ATTACH;FMTTYPE="image/jpeg":http://storage.ning.com/topology/rest/1.0/
 file/get/2829237649?profile=original
ATTENDEE;ROLE=REQ-PARTICIPANT;PARTSTAT=ACCEPTED;RSVP=TRUE;CN="Mostafa 
 R. A. Khalifa":https://www.grasshopper3d.com/profile/MostafaKhalifa
ATTENDEE;ROLE=REQ-PARTICIPANT;PARTSTAT=TENTATIVE;RSVP=TRUE;CN=luluwah:
 https://www.grasshopper3d.com/profile/luluwah
END:VEVENT
END:VCALENDAR
