BEGIN:VCALENDAR
PRODID:NingEventWidget-v1
VERSION:2.0
METHOD:PUBLISH
BEGIN:VTIMEZONE
TZID:America/Boise
X-LIC-LOCATION:America/Boise
BEGIN:DAYLIGHT
TZOFFSETFROM:-0700
TZOFFSETTO:-0600
TZNAME:MDT
DTSTART:19700308T020000
RRULE:FREQ=YEARLY;BYMONTH=3;BYDAY=2SU
END:DAYLIGHT
BEGIN:STANDARD
TZOFFSETFROM:-0600
TZOFFSETTO:-0700
TZNAME:MST
DTSTART:19701101T020000
RRULE:FREQ=YEARLY;BYMONTH=11;BYDAY=1SU
END:STANDARD
END:VTIMEZONE
BEGIN:VEVENT
UID:2985220:Event:1959083
DTSTAMP:20260424T192750Z
SUMMARY:Rome Algorithmic Summer School
DESCRIPTION:Parametric algorithmic design summer school in Rome, the s
 chool will focus on Rhino 3D modeling  and Grasshopper tutorials (bas
 ic to intermediate level).   for schedule, instructors, details and 
 participation fees, please click on this following link. \nhttp://arc
 h-algorithm.com/Summer-School-2019\n\nto join click on ApplyNow that y
 ou will find at the end of the link \n\nFor more information visit ht
 tps://www.grasshopper3d.com/events/rome-algorithmic-summer-school-1
DTSTART;TZID=America/Boise:20190716T083000
DTEND;TZID=America/Boise:20190726T173000
CATEGORIES:workshop, rhino3d, class, parametric, design, architecture
LOCATION:Sapeinza Univeristy of Rome
WEBSITE:http://arch-algorithm.com/Summer-School-2019/
URL:http://arch-algorithm.com/Summer-School-2019/
CONTACT:
ORGANIZER:Algorithm-Workshops &amp; Faculty of Engineering at Sapienza
  university of Rome
ATTACH;FMTTYPE="image/jpeg":https://storage.ning.com/topology/rest/1.0
 /file/get/870420094?profile=original
ATTENDEE;ROLE=REQ-PARTICIPANT;PARTSTAT=ACCEPTED;RSVP=TRUE;CN=Ligorun:h
 ttps://www.grasshopper3d.com/profile/Ligorun
ATTENDEE;ROLE=REQ-PARTICIPANT;PARTSTAT=ACCEPTED;RSVP=TRUE;CN="Hannah S
 tevens":https://www.grasshopper3d.com/profile/HannahStevens
ATTENDEE;ROLE=REQ-PARTICIPANT;PARTSTAT=ACCEPTED;RSVP=TRUE;CN="Mostafa 
 R. A. Khalifa":https://www.grasshopper3d.com/profile/MostafaKhalifa
END:VEVENT
END:VCALENDAR
