BEGIN:VCALENDAR
PRODID:NingEventWidget-v1
VERSION:2.0
METHOD:PUBLISH
BEGIN:VTIMEZONE
TZID:America/Boise
X-LIC-LOCATION:America/Boise
BEGIN:DAYLIGHT
TZOFFSETFROM:-0700
TZOFFSETTO:-0600
TZNAME:MDT
DTSTART:19700308T020000
RRULE:FREQ=YEARLY;BYMONTH=3;BYDAY=2SU
END:DAYLIGHT
BEGIN:STANDARD
TZOFFSETFROM:-0600
TZOFFSETTO:-0700
TZNAME:MST
DTSTART:19701101T020000
RRULE:FREQ=YEARLY;BYMONTH=11;BYDAY=1SU
END:STANDARD
END:VTIMEZONE
BEGIN:VEVENT
UID:2985220:Event:1700007
DTSTAMP:20260423T085956Z
SUMMARY:Rome Algorithm summer School
DESCRIPTION:Rome Summer School 2017 \nfor resignation and full detail
 s:\nhttp://ealgoritm.com/Summer-School/\n\n\nSchool Program\nThe progr
 am is based on advanced computational approach that enables designers 
 and architects to overcome the imposition of prefixed architectural fo
 rms in order to enhance performance-driven design and responsive kinet
 ic solutions that interact with humans and environment. Lectures on pa
 rametric design simulation, generative and form finding as well as env
 ironmental optimization, analyzing and digital fabrication prototyping
 , are integrated together in 2 main modules. Students from the beginni
 ng of the school will be divided into groups to compete on a case proj
 ect increasing their ability to define project parameters, design fact
 ors, solving problems, understanding factors relationships, involving 
 environmental and human sensors, and optimizing their projects solutio
 ns in smart and inelegance way. In the beginning of the school, parame
 tric modelling will be introduced (Rhino3d and Grasshopper) to build t
 he necessary skills of parametric generative form methods to students.
  In this module will be dedicated to digital design methods and physic
 al model making by various fabrication techniques, including laser cut
 ting and 3D printing. Students will focus on the idea of creating algo
 rithmic architectural form inspired by nature and their research will 
 be supported by a series of lectures. Also they will be split into gro
 ups in order to develop projects assigned by the professors. This Modu
 le also adds Form Finding techniques to the parametric design strategi
 es. Students will learn how material system behaviors, physical forces
  and responsive structure system can be digitally simulated into param
 etric models in order to explore complex forms that optimized and adap
 ted to its natural behaviors, initial forces, material, particles, and
  structure systems. Series of lectures on form finding, natural struct
 ural algorithms, material behaviors, and physical forces will lead stu
 dent to optimize their project forms. It is experimental laboratory in
  which kinetic interactive Architectural models are tested and designe
 d. Students will develop novel solutions, building upon learning respo
 nsive kinetic systems. They will design Architectural responsive robot
 ic systems inspired by nature. Projects will transform by adapting to 
 environmental conditions and human behaviors happening at real and vir
 tual levels. \n\n\n\n\nFor more information visit https://www.grassho
 pper3d.com/events/rome-algorithm-summer-school
DTSTART;TZID=America/Boise:20170717T080000
DTEND;TZID=America/Boise:20170728T180000
CATEGORIES:workshop, summer, school, parametric, algorithmic, grasshop
 per3d, tutorials
LOCATION:Rome - Faculty of Engineering - Sapienza University of Rome
WEBSITE:http://ealgoritm.com/Summer-School/
URL:http://ealgoritm.com/Summer-School/
CONTACT:
ORGANIZER:Faculty of Engineering - Sapienza University of Rome
ATTACH;FMTTYPE="image/jpeg":http://storage.ning.com/topology/rest/1.0/
 file/get/2829670942?profile=original
ATTENDEE;ROLE=REQ-PARTICIPANT;PARTSTAT=ACCEPTED;RSVP=TRUE;CN="Michael 
 Balter":https://www.grasshopper3d.com/profile/michaelbalter
ATTENDEE;ROLE=REQ-PARTICIPANT;PARTSTAT=ACCEPTED;RSVP=TRUE;CN="David Ga
 rdner":https://www.grasshopper3d.com/profile/DavidGardner
ATTENDEE;ROLE=REQ-PARTICIPANT;PARTSTAT=ACCEPTED;RSVP=TRUE;CN="Mostafa 
 R. A. Khalifa":https://www.grasshopper3d.com/profile/MostafaKhalifa
END:VEVENT
END:VCALENDAR
