BEGIN:VCALENDAR
PRODID:NingEventWidget-v1
VERSION:2.0
METHOD:PUBLISH
BEGIN:VTIMEZONE
TZID:America/Boise
X-LIC-LOCATION:America/Boise
BEGIN:DAYLIGHT
TZOFFSETFROM:-0700
TZOFFSETTO:-0600
TZNAME:MDT
DTSTART:19700308T020000
RRULE:FREQ=YEARLY;BYMONTH=3;BYDAY=2SU
END:DAYLIGHT
BEGIN:STANDARD
TZOFFSETFROM:-0600
TZOFFSETTO:-0700
TZNAME:MST
DTSTART:19701101T020000
RRULE:FREQ=YEARLY;BYMONTH=11;BYDAY=1SU
END:STANDARD
END:VTIMEZONE
BEGIN:VEVENT
UID:2985220:Event:349917
DTSTAMP:20260420T003115Z
SUMMARY:RoboFold Workshop: Robotic Facade Fabrication
DESCRIPTION:Forthcoming Events\n\nRoboFold Workshop: Robotic Facade Fa
 brication\n12th-16th September 2011, RoboFold, London.\n \nThe first 
 facade design and fabrication workshop at the new RoboFold fabrication
  studio in London. \nFour days of folding, simulation and robotic fab
 rication - plus an optional extra day of 1:1 facade build.\nGo the Wo
 rkshop page on the RoboFold website for an overview of the schedule. 
 See the Events page for booking details.\n \nTutors: Gregory Epps and
  Daniel Piker with Jeg Dudley as assistant tutor.\n\n\nFor more infor
 mation visit https://www.grasshopper3d.com/events/robofold-workshop-ro
 botic
DTSTART;TZID=America/Boise:20110912T000000
DTEND;TZID=America/Boise:20110916T235900
CATEGORIES:workshop
LOCATION:RoboFold, London
WEBSITE:http://www.robofold.com
URL:http://www.robofold.com
CONTACT:
ORGANIZER;CN="Gregory Epps":https://www.grasshopper3d.com/profile/Greg
 oryEpps
ATTACH;FMTTYPE="image/jpeg":http://storage.ning.com/topology/rest/1.0/
 file/get/2827814182?profile=original
ATTENDEE;ROLE=REQ-PARTICIPANT;PARTSTAT=ACCEPTED;RSVP=TRUE;CN="Gregory 
 Epps":https://www.grasshopper3d.com/profile/GregoryEpps
ATTENDEE;ROLE=REQ-PARTICIPANT;PARTSTAT=TENTATIVE;RSVP=TRUE;CN="Olly Th
 omas":https://www.grasshopper3d.com/profile/OllyThomas
ATTENDEE;ROLE=REQ-PARTICIPANT;PARTSTAT=TENTATIVE;RSVP=TRUE;CN=Moonbeas
 t:https://www.grasshopper3d.com/profile/MartinMiller
END:VEVENT
END:VCALENDAR
