BEGIN:VCALENDAR
PRODID:NingEventWidget-v1
VERSION:2.0
METHOD:PUBLISH
BEGIN:VTIMEZONE
TZID:America/Boise
X-LIC-LOCATION:America/Boise
BEGIN:DAYLIGHT
TZOFFSETFROM:-0700
TZOFFSETTO:-0600
TZNAME:MDT
DTSTART:19700308T020000
RRULE:FREQ=YEARLY;BYMONTH=3;BYDAY=2SU
END:DAYLIGHT
BEGIN:STANDARD
TZOFFSETFROM:-0600
TZOFFSETTO:-0700
TZNAME:MST
DTSTART:19701101T020000
RRULE:FREQ=YEARLY;BYMONTH=11;BYDAY=1SU
END:STANDARD
END:VTIMEZONE
BEGIN:VEVENT
UID:2985220:Event:956898
DTSTAMP:20260423T055317Z
SUMMARY:ROB|ARCH 2014
DESCRIPTION: \nROB|ARCH has been initiated by the Association for Rob
 ots in Architecture as a new conference series on the use of robotic f
 abrication in architecture, art, and design, closely linking industry 
 with cutting-edge research institutions. In December 2012 the conferen
 ce was hosted by its founders in Vienna, Austria.\nIn 2014 the confere
 nce travels to North America, hosted by the University of Michigan Tau
 bman College of Architecture and Urban Planning.Continuing with the pr
 evious theme of collaboration, the conference seeks to bring togeth ar
 tists, designers, fabricators and industry leaders for the purpose of 
 advancing the discourse surrounding robotic fabrication. Following on 
 the success of ROB|ARCH 2012, the conference will again present a seri
 es of workshops held at select research institutions on the east coast
  of the United States, aimed at exposing the advanced capabilities of 
 applied robotic research.Following the workshops, the conference will 
 span two days at the University of Michigan Campus in Ann Arbor, Michi
 gan, about an hour outside of Detroit, the origin of robotics in North
 America. The internationally renowned publishing house Springer Wien/N
 ew York will publish and market the proceedings of the conference worl
 dwide.\nRobots in Architecture, Art, and Design Industrial robots are 
 the ultimate flexible manufacturing tools. Designers are taking this t
 o heart;contemporary research and production via robotic fabrication b
 orrows from more mature manufacturing industries in order to accelerat
 e the translation from “design to production”. Whereas task-specif
 ic machine tools support the efficiencies of mass-production, robotic 
 workcells can be reconfigured, allowing a generic machine to perform a
  wide range oftasks. What robots may lack in extreme precision, they r
 apidly recover in “intelligence”….cooperative, closed-loop produ
 ction cells now learn and adjust their technique in real-time. At the 
 other end of the scale, robots are emerging as in-situ construction to
 ols, achieving the dexterity to perform an active role in direct, on s
 ite fabrication challenges.  The FABLab at the Taubman College is a re
 cognized leader in architectural fabrication research, specifically wi
 th large scale automation and CNC equipment. Building on 4 years of wo
 rk with robotic equipment, the Lab recently expanded to increase the a
 vailability and scope of its resources. For the ROB|ARCH conference th
 e Lab will host 4 separate workshops, including a cooperative workcell
  with 2x Kr120 HA robots on linear axes, 2x Agilus Kr6 robots, 1x KR10
 0HAL90 robot, and an additional space for a workshop specific, multi-r
 obot workcell. Additional workshops will be hosted at select peer inst
 itutions nearby.  Association for Robots in Architecture The internati
 onal Association for Robots in Architecture is originally a spin off a
 ssociation of Vienna University of Technology. Its goal is to make ind
 ustrial robots accessible for the creative industry, artists, designer
 s and architects, by sharing ideas, research results and technological
  developments.\n\nFor more information visit https://www.grasshopper3d
 .com/events/rob-arch-2014
DTSTART;TZID=America/Boise:20140514T000000
DTEND;TZID=America/Boise:20140518T235900
CATEGORIES:conference, workshops
LOCATION:Taubman College, University of Michigan, Ann Arbor
WEBSITE:http://www.robarch2014.org
URL:http://www.robarch2014.org
CONTACT:
ORGANIZER:Wes McGee, Monica Ponce de Leon
ATTACH;FMTTYPE="image/jpeg":http://storage.ning.com/topology/rest/1.0/
 file/get/2827864557?profile=original
ATTENDEE;ROLE=REQ-PARTICIPANT;PARTSTAT=ACCEPTED;RSVP=TRUE;CN="Gregory 
 Epps":https://www.grasshopper3d.com/profile/GregoryEpps
ATTENDEE;ROLE=REQ-PARTICIPANT;PARTSTAT=ACCEPTED;RSVP=TRUE;CN=Lysandre:
 https://www.grasshopper3d.com/profile/Lysandre
ATTENDEE;ROLE=REQ-PARTICIPANT;PARTSTAT=ACCEPTED;RSVP=TRUE;CN="Simon Lu
 llin":https://www.grasshopper3d.com/profile/simonlullin
ATTENDEE;ROLE=REQ-PARTICIPANT;PARTSTAT=ACCEPTED;RSVP=TRUE;CN="Daniel P
 iker":https://www.grasshopper3d.com/profile/DanielPiker
ATTENDEE;ROLE=REQ-PARTICIPANT;PARTSTAT=ACCEPTED;RSVP=TRUE;CN="Thibault
  Schwartz":https://www.grasshopper3d.com/profile/Thibal
ATTENDEE;ROLE=REQ-PARTICIPANT;PARTSTAT=ACCEPTED;RSVP=TRUE;CN="Sigrid B
 rell-Cokcan":https://www.grasshopper3d.com/profile/SigridBrellCokcan
ATTENDEE;ROLE=REQ-PARTICIPANT;PARTSTAT=TENTATIVE;RSVP=TRUE;CN="elaine 
 bonavia":https://www.grasshopper3d.com/profile/elainebonavia
ATTENDEE;ROLE=REQ-PARTICIPANT;PARTSTAT=TENTATIVE;RSVP=TRUE;CN="Diego T
 accioli":https://www.grasshopper3d.com/profile/DiegoTaccioli
END:VEVENT
END:VCALENDAR
