BEGIN:VCALENDAR
PRODID:NingEventWidget-v1
VERSION:2.0
METHOD:PUBLISH
BEGIN:VTIMEZONE
TZID:America/Boise
X-LIC-LOCATION:America/Boise
BEGIN:DAYLIGHT
TZOFFSETFROM:-0700
TZOFFSETTO:-0600
TZNAME:MDT
DTSTART:19700308T020000
RRULE:FREQ=YEARLY;BYMONTH=3;BYDAY=2SU
END:DAYLIGHT
BEGIN:STANDARD
TZOFFSETFROM:-0600
TZOFFSETTO:-0700
TZNAME:MST
DTSTART:19701101T020000
RRULE:FREQ=YEARLY;BYMONTH=11;BYDAY=1SU
END:STANDARD
END:VTIMEZONE
BEGIN:VEVENT
UID:2985220:Event:933678
DTSTAMP:20260423T230259Z
SUMMARY:RhinoPython Formation
DESCRIPTION:Rhinoforyou organise une formation débutant de 2 jours
  sur le langage Rhino.Python* pour Rhino v5 début décembre 2013.\n
 \nCette formation sera réalisée en collaboration avec Giulio Piacen
 tino que beaucoup d'entre vous connaissent pour l'excellent support q
 u'il a prodigué chez l'éditeur McNeel ! \nDates : lundi 9 et mardi
  10 décembre 2013\nNiveau : Débutant\nPré-requis :  non, mais con
 naissances en langage de programmation ou Grasshopper seront un plus, 
 connaissances en anglais car le cours sera dispensé en langue anglais
 e.\n\n\nFor more information visit https://www.grasshopper3d.com/event
 s/rhinopython-formation
DTSTART;TZID=America/Boise:20131209T000000
DTEND;TZID=America/Boise:20131210T235900
CATEGORIES:formation
LOCATION:Paris
WEBSITE:http://www.rhino4you.com/1/formation_rhinopython_debutant_9472
 64.html
URL:http://www.rhino4you.com/1/formation_rhinopython_debutant_947264.h
 tml
CONTACT:06 60 07 18 86 / 01 75 43 87 31
ORGANIZER;CN="Jacques HABABOU":https://www.grasshopper3d.com/profile/J
 acquesHABABOU849
ATTACH;FMTTYPE="image/jpeg":http://storage.ning.com/topology/rest/1.0/
 file/get/2828071626?profile=original
ATTENDEE;ROLE=REQ-PARTICIPANT;PARTSTAT=ACCEPTED;RSVP=TRUE;CN="Jacques 
 HABABOU":https://www.grasshopper3d.com/profile/JacquesHABABOU849
ATTENDEE;ROLE=REQ-PARTICIPANT;PARTSTAT=TENTATIVE;RSVP=TRUE;CN="Xiaoyi 
 Wu":https://www.grasshopper3d.com/profile/Wuyi
END:VEVENT
END:VCALENDAR
