BEGIN:VCALENDAR
PRODID:NingEventWidget-v1
VERSION:2.0
METHOD:PUBLISH
BEGIN:VTIMEZONE
TZID:America/Boise
X-LIC-LOCATION:America/Boise
BEGIN:DAYLIGHT
TZOFFSETFROM:-0700
TZOFFSETTO:-0600
TZNAME:MDT
DTSTART:19700308T020000
RRULE:FREQ=YEARLY;BYMONTH=3;BYDAY=2SU
END:DAYLIGHT
BEGIN:STANDARD
TZOFFSETFROM:-0600
TZOFFSETTO:-0700
TZNAME:MST
DTSTART:19701101T020000
RRULE:FREQ=YEARLY;BYMONTH=11;BYDAY=1SU
END:STANDARD
END:VTIMEZONE
BEGIN:VEVENT
UID:2985220:Event:308312
DTSTAMP:20260420T005209Z
SUMMARY:Rhino.GetMe Parametric Workshop Querétaro
DESCRIPTION:Nueva Información, agregada el 20 de julio:\n \nSe ha ca
 mbiado la fecha del evento para realizar el workshop de una semana, NU
 EVO FECHA DEL 1 AL 5 DE AGOSTO la construcción del ejercicio práctic
 o como una cubierta o una estructura sigue en pie; presentar el router
  cnc en el evento depende del ejercicio práctico, para mayores inform
 es no duden en escribir a luzyextura@gmail.com o a las oficinas de Bis
 hon en Querétaro\n \n_______________________________________________
 ________\n \nWorkshop de arquitectura paramétrica mediante procesos 
 digitales.\n \nEl temario incluye aspectos básicos y medios del mode
 lado en Rhino, tanto de dibujo como de objetos en 3D, y las funciones 
 de Grasshopper como una herramienta para el diseño paramétrico.\n \
 nAl finalizar el curso, los asistentes serán capaces de manejar Rhino
 ceros y  Grasshopper en un nivel medio, también comprenderán todas 
 las herramientas básicas y el estilo de trabajo.\n \nAdemás del con
 tenido teórico se incluye un ejercicio práctico, que consiste en la 
 producción de un modelo 3D, abarcando desde las ideas generadoras, el
  diseño, dibujo de piezas para su fabricación y construcción final.
 \n \nEl workshop tiene dos semanas de duración, con un horario de 8 
 am a 3 pm, el costo para estudiantes es de $4590, para la comunidad en
  general $4900. 35% descuento antes del 22 de julio\n \nInformes bish
 ion@mail.com, luzytextura@gmail.com.\n \nTeléfono en Querétaro 4422
  75 2863\nTeléfono en la Ciudad de México 04455 4381 3302\n\nFor mor
 e information visit https://www.grasshopper3d.com/events/rhinogetme-pa
 rametric-workshop
DTSTART;TZID=America/Boise:20110801T080000
DTEND;TZID=America/Boise:20110805T150000
CATEGORIES:workshop
LOCATION:Oficinas de Bishion Querétaro
WEBSITE:http://www.bishion.com/
URL:http://www.bishion.com/
CONTACT:04455 4381 3302//4422 75 2863
ORGANIZER:Arq. Bernardo Filiberto Rivera López
ATTACH;FMTTYPE="image/jpeg":http://storage.ning.com/topology/rest/1.0/
 file/get/2827803887?profile=original
ATTENDEE;ROLE=REQ-PARTICIPANT;PARTSTAT=ACCEPTED;RSVP=TRUE;CN="Bernardo
  Filiberto Rivera López":https://www.grasshopper3d.com/profile/Bernar
 doFilibertoRiveraLopez
END:VEVENT
END:VCALENDAR
