BEGIN:VCALENDAR
PRODID:NingEventWidget-v1
VERSION:2.0
METHOD:PUBLISH
BEGIN:VTIMEZONE
TZID:America/Boise
X-LIC-LOCATION:America/Boise
BEGIN:DAYLIGHT
TZOFFSETFROM:-0700
TZOFFSETTO:-0600
TZNAME:MDT
DTSTART:19700308T020000
RRULE:FREQ=YEARLY;BYMONTH=3;BYDAY=2SU
END:DAYLIGHT
BEGIN:STANDARD
TZOFFSETFROM:-0600
TZOFFSETTO:-0700
TZNAME:MST
DTSTART:19701101T020000
RRULE:FREQ=YEARLY;BYMONTH=11;BYDAY=1SU
END:STANDARD
END:VTIMEZONE
BEGIN:VEVENT
UID:2985220:Event:401736
DTSTAMP:20260421T040042Z
SUMMARY:Rhinoforyou / GeometryGYM
DESCRIPTION:Bonjour, Jon sera sur Paris les 12 et 13 septembre prochai
 ns, si vous souhaitez le rencontrer discussion/présentation de ses co
 nnecteurs et développements, merci de m'en informer au plus tôt...\n
 Nous organisons également un rdv cordial entre utilisateurs le dimanc
 he 11/09 en fin de journée sur Paris (me contacter pour infos)\nCordi
 alement, Jacques\n\nFor more information visit https://www.grasshopper
 3d.com/events/rhinoforyou-geometrygym
DTSTART;TZID=America/Boise:20110911T180000
DTEND;TZID=America/Boise:20110913T200000
CATEGORIES:meet, jon, mirtschin, at, "paris..."
LOCATION:Paris
WEBSITE:http://www.rhinoforyou.com
URL:http://www.rhinoforyou.com
CONTACT:06 60 07 18 86
ORGANIZER;CN="Jacques HABABOU":https://www.grasshopper3d.com/profile/J
 acquesHABABOU849
ATTACH;FMTTYPE="image/jpeg":
ATTENDEE;ROLE=REQ-PARTICIPANT;PARTSTAT=ACCEPTED;RSVP=TRUE;CN="Jon Mirt
 schin":https://www.grasshopper3d.com/profile/JonMirtschin
ATTENDEE;ROLE=REQ-PARTICIPANT;PARTSTAT=ACCEPTED;RSVP=TRUE;CN="Jacques 
 HABABOU":https://www.grasshopper3d.com/profile/JacquesHABABOU849
ATTENDEE;ROLE=REQ-PARTICIPANT;PARTSTAT=TENTATIVE;RSVP=TRUE;CN="Sebasti
 an L.":https://www.grasshopper3d.com/profile/MADinArt
ATTENDEE;ROLE=REQ-PARTICIPANT;PARTSTAT=TENTATIVE;RSVP=TRUE;CN=HDA_pari
 s:https://www.grasshopper3d.com/profile/hda_Paris
END:VEVENT
END:VCALENDAR
