BEGIN:VCALENDAR
PRODID:NingEventWidget-v1
VERSION:2.0
METHOD:PUBLISH
BEGIN:VTIMEZONE
TZID:America/Boise
X-LIC-LOCATION:America/Boise
BEGIN:DAYLIGHT
TZOFFSETFROM:-0700
TZOFFSETTO:-0600
TZNAME:MDT
DTSTART:19700308T020000
RRULE:FREQ=YEARLY;BYMONTH=3;BYDAY=2SU
END:DAYLIGHT
BEGIN:STANDARD
TZOFFSETFROM:-0600
TZOFFSETTO:-0700
TZNAME:MST
DTSTART:19701101T020000
RRULE:FREQ=YEARLY;BYMONTH=11;BYDAY=1SU
END:STANDARD
END:VTIMEZONE
BEGIN:VEVENT
UID:2985220:Event:1598556
DTSTAMP:20260422T014659Z
SUMMARY:RhinoDAY BRAZIL
DESCRIPTION:A Rede Brasileira de Fabricação Digital – RBFD, rep
 resentante oficial da McNeel no Brasil e aUniversidade Presbiteriana
  Mackenzie têm o prazer de convidá-lo para participar do 1º encont
 roRhinoDay Brasil, que acontecerá em São Paulo, no Campus Mackenzie.
  O evento tem como propósito apresentar e demonstrar a capacidade e c
 aracterísticas do programa Rhinoceros aliado à plug-ins disponíveis
  no mercado, utilizado em diversos setores vinculados à disciplinas d
 e design e arquitetura. O evento contará com a participação de prof
 issionais nos setores de  arquitetura, design industrial, design de i
 nteriores, joalheria, naval, análise estrutural, conforto ambiental, 
 geometria avançada, parametria, impressão 3D, CNC, fabricação digi
 tal, fresadoras, braços robóticos, arte digital, interatividade e ac
 adêmico\n\n\n\nFor more information visit https://www.grasshopper3d.c
 om/events/rhinoday-brazil
DTSTART;TZID=America/Boise:20160921T000000
DTEND;TZID=America/Boise:20160923T235900
CATEGORIES:rhinoday
LOCATION:São Paulo, no Campus Mackenzie
WEBSITE:http://www.rhinoday.com.br/#inicio
URL:http://www.rhinoday.com.br/#inicio
CONTACT:
ORGANIZER:Affonso Orciuoli, Jackie Nasser and Andres Gonzalez
ATTACH;FMTTYPE="image/jpeg":http://storage.ning.com/topology/rest/1.0/
 file/get/2829489989?profile=original
ATTENDEE;ROLE=REQ-PARTICIPANT;PARTSTAT=ACCEPTED;RSVP=TRUE;CN="Andres G
 onzalez":https://www.grasshopper3d.com/profile/AndresGonzalez
END:VEVENT
END:VCALENDAR
