BEGIN:VCALENDAR
PRODID:NingEventWidget-v1
VERSION:2.0
METHOD:PUBLISH
BEGIN:VTIMEZONE
TZID:America/Boise
X-LIC-LOCATION:America/Boise
BEGIN:DAYLIGHT
TZOFFSETFROM:-0700
TZOFFSETTO:-0600
TZNAME:MDT
DTSTART:19700308T020000
RRULE:FREQ=YEARLY;BYMONTH=3;BYDAY=2SU
END:DAYLIGHT
BEGIN:STANDARD
TZOFFSETFROM:-0600
TZOFFSETTO:-0700
TZNAME:MST
DTSTART:19701101T020000
RRULE:FREQ=YEARLY;BYMONTH=11;BYDAY=1SU
END:STANDARD
END:VTIMEZONE
BEGIN:VEVENT
UID:2985220:Event:425036
DTSTAMP:20260419T225249Z
SUMMARY:Rhinobsession Workshop - monkey scripts
DESCRIPTION:MAG LAB, Syria – Spain – Italy (Materials- Advanced Ar
 chitecture – Generative Laboratory) as a part of Maksoud Architectur
 al Group, authorized reseller and authorized training center of McNeel
  in Syria and the Middle East through its affiliate offices, is please
 d to announce that the official Rhino workshop “Digital Obsession-Ad
 vances in Architectural Geometry” will take place in Damascus – Sy
 ria on August and September 2011. The workshop will cover Rhino Level 
 2 – NURBS Modeling-Advanced and Basic scripting. In this class parti
 cipants will learn how to create and edit accurate free form 3D NURBS 
 models. This fast-moving class covers most of Rhino’s functionality,
  including the most advanced surfacing commands. At the end of the wor
 kshop each participant will receive an official certificate of partici
 pation from McNeel Europe (Barcelona – Spain) and MAG LAB. The event
  will be the key event of the year for discussing, learning and networ
 king about the emerging practice of digital parametric. These events f
 ollow the highly successful previous workshops, Spain 2008-2009-2010-2
 011, Italy 2010, Syria 2009-2010-2011 and multiple preceding events. T
 he Workshop applications are online and close on 14August.2011, provid
 es a unique opportunity to work with the most established expert softw
 are in the world on digital parametric design. The most successful Wor
 kshop attendees will have their work shown at the AIU 2011 Conference 
 and workshops, will also have an opportunity to be invited and attend 
 next workshops held by MAG LAB where top architects, engineers and edu
 cators will participate.\n\n\n\n\n\n \n\nFor more information visit h
 ttps://www.grasshopper3d.com/events/rhinobsession-workshop-monkey-scri
 pts
DTSTART;TZID=America/Boise:20111001T000000
DTEND;TZID=America/Boise:20111007T235900
CATEGORIES:workshop
LOCATION:MAG LAB - SCS Building
WEBSITE:http://www.rhinobsession2.wordpress.com
URL:http://www.rhinobsession2.wordpress.com
CONTACT:
ORGANIZER:Aref Maksoud - MAG LAB (Materials - Advanced Architecture - 
 Generative Laboratory)
ATTACH;FMTTYPE="image/jpeg":http://storage.ning.com/topology/rest/1.0/
 file/get/2827826105?profile=original
ATTENDEE;ROLE=REQ-PARTICIPANT;PARTSTAT=ACCEPTED;RSVP=TRUE;CN=xiejeff:h
 ttps://www.grasshopper3d.com/profile/xiejeff
ATTENDEE;ROLE=REQ-PARTICIPANT;PARTSTAT=ACCEPTED;RSVP=TRUE;CN="Aref Mak
 soud":https://www.grasshopper3d.com/profile/ArefMaksoud
END:VEVENT
END:VCALENDAR
