BEGIN:VCALENDAR
PRODID:NingEventWidget-v1
VERSION:2.0
METHOD:PUBLISH
BEGIN:VTIMEZONE
TZID:America/Boise
X-LIC-LOCATION:America/Boise
BEGIN:DAYLIGHT
TZOFFSETFROM:-0700
TZOFFSETTO:-0600
TZNAME:MDT
DTSTART:19700308T020000
RRULE:FREQ=YEARLY;BYMONTH=3;BYDAY=2SU
END:DAYLIGHT
BEGIN:STANDARD
TZOFFSETFROM:-0600
TZOFFSETTO:-0700
TZNAME:MST
DTSTART:19701101T020000
RRULE:FREQ=YEARLY;BYMONTH=11;BYDAY=1SU
END:STANDARD
END:VTIMEZONE
BEGIN:VEVENT
UID:2985220:Event:169868
DTSTAMP:20260421T061659Z
SUMMARY:RhinoBIM Debut
DESCRIPTION:\nRhinoBIM Debut Webinar\n\n\n\n\n\nJoin us for a Webinar 
 on March 4\n\n\n\n\n\n\n\nSpace is limited.Reserve your Webinar seat n
 ow at:https://www3.gotomeeting.com/register/276391934\n\n\n\n\nRick Sm
 ith and Erik Thorson of Virtual Build Technologies will debut their Rh
 ino plug-in RhinoBIM and showcase its functionality. The presentation 
 will cover using RhinoBIM for Structural Design Modeling, Structural A
 nalysis, and more.\n\n\n\n\nTitle:\n \nRhinoBIM Debut Webinar\n\n\n\n
 Date:\n\nFriday, March 4, 2011\n\n\n\nTime:\n\n9:00 AM - 10:30 AM PST\
 n\n\n\n\n\n\n\n\n\n\n\n\n\n\n\n\n\n\n\n\nFor more information visit ht
 tps://www.grasshopper3d.com/events/rhinobim-debut
DTSTART;TZID=America/Boise:20110304T090000
DTEND;TZID=America/Boise:20110304T103000
CATEGORIES:webinar
LOCATION:Seattle, WA
WEBSITE:
URL:
CONTACT:mary@mcneel.com
ORGANIZER;CN="Mary Fugier":https://www.grasshopper3d.com/profile/MaryF
 ugier
ATTACH;FMTTYPE="image/jpeg":http://storage.ning.com/topology/rest/1.0/
 file/get/2827765430?profile=original
ATTENDEE;ROLE=REQ-PARTICIPANT;PARTSTAT=ACCEPTED;RSVP=TRUE;CN="Mary Fug
 ier":https://www.grasshopper3d.com/profile/MaryFugier
END:VEVENT
END:VCALENDAR
