BEGIN:VCALENDAR
PRODID:NingEventWidget-v1
VERSION:2.0
METHOD:PUBLISH
BEGIN:VTIMEZONE
TZID:America/Boise
X-LIC-LOCATION:America/Boise
BEGIN:DAYLIGHT
TZOFFSETFROM:-0700
TZOFFSETTO:-0600
TZNAME:MDT
DTSTART:19700308T020000
RRULE:FREQ=YEARLY;BYMONTH=3;BYDAY=2SU
END:DAYLIGHT
BEGIN:STANDARD
TZOFFSETFROM:-0600
TZOFFSETTO:-0700
TZNAME:MST
DTSTART:19701101T020000
RRULE:FREQ=YEARLY;BYMONTH=11;BYDAY=1SU
END:STANDARD
END:VTIMEZONE
BEGIN:VEVENT
UID:2985220:Event:1203673
DTSTAMP:20260424T120703Z
SUMMARY:Rhino& Grasshopper beginner advanced workshop (Egypt, Cairo)
DESCRIPTION:A beginner advanced course for Rhino and Grasshopper, Inst
 ructed by internationally rewarded architect and Microsoft certified s
 olution developer Mohammed Ezzat.\n\nFor more information visit https:
 //www.grasshopper3d.com/events/rhino-grasshopper-beginner-advanced-wor
 kshop-egypt-cairo
DTSTART;TZID=America/Boise:20150129T180000
DTEND;TZID=America/Boise:20150228T210000
CATEGORIES:"rhino&", grasshopper, beginner, advanced, workshop, "(egyp
 t", "cairo)"
LOCATION:nasser city
WEBSITE:http://www.me-archs.com
URL:http://www.me-archs.com
CONTACT:+2 0100 50 26 854
ORGANIZER;CN="Mohammed Ezzat":https://www.grasshopper3d.com/profile/Mo
 hammedEzzat
ATTACH;FMTTYPE="image/jpeg":http://storage.ning.com/topology/rest/1.0/
 file/get/2828432438?profile=original
ATTENDEE;ROLE=REQ-PARTICIPANT;PARTSTAT=ACCEPTED;RSVP=TRUE;CN="Andrew R
 eynolds":https://www.grasshopper3d.com/profile/AndrewReynolds
ATTENDEE;ROLE=REQ-PARTICIPANT;PARTSTAT=ACCEPTED;RSVP=TRUE;CN="Mohammed
  Ezzat":https://www.grasshopper3d.com/profile/MohammedEzzat
END:VEVENT
END:VCALENDAR
