BEGIN:VCALENDAR
PRODID:NingEventWidget-v1
VERSION:2.0
METHOD:PUBLISH
BEGIN:VTIMEZONE
TZID:America/Boise
X-LIC-LOCATION:America/Boise
BEGIN:DAYLIGHT
TZOFFSETFROM:-0700
TZOFFSETTO:-0600
TZNAME:MDT
DTSTART:19700308T020000
RRULE:FREQ=YEARLY;BYMONTH=3;BYDAY=2SU
END:DAYLIGHT
BEGIN:STANDARD
TZOFFSETFROM:-0600
TZOFFSETTO:-0700
TZNAME:MST
DTSTART:19701101T020000
RRULE:FREQ=YEARLY;BYMONTH=11;BYDAY=1SU
END:STANDARD
END:VTIMEZONE
BEGIN:VEVENT
UID:2985220:Event:1036189
DTSTAMP:20260423T202825Z
SUMMARY:Rhino & grasshopper beginner-advanced course, Cairo, Egypt
DESCRIPTION:A beginner-advanced course for modeling using Rhino and pa
 rametric design using grasshopper\n\nFor more information visit https:
 //www.grasshopper3d.com/events/rhino-grasshopper-beginner-advanced-cou
 rse-cairo-egypt-3
DTSTART;TZID=America/Boise:20140425T000000
DTEND;TZID=America/Boise:20140430T235900
CATEGORIES:beginner-advanced, course
LOCATION:Cairo, Egypt
WEBSITE:http://www.me-archs.com
URL:http://www.me-archs.com
CONTACT:+2 0100 5026854
ORGANIZER;CN="Mohammed Ezzat":https://www.grasshopper3d.com/profile/Mo
 hammedEzzat
ATTACH;FMTTYPE="image/jpeg":http://storage.ning.com/topology/rest/1.0/
 file/get/2828516025?profile=original
ATTENDEE;ROLE=REQ-PARTICIPANT;PARTSTAT=ACCEPTED;RSVP=TRUE;CN="Mohammed
  Ezzat":https://www.grasshopper3d.com/profile/MohammedEzzat
END:VEVENT
END:VCALENDAR
